Index of /checkResults/devel/bioc-LATEST/chipseq/raw-results/nebbiolo2

[ICO]NameLast modifiedSizeDescription

[DIR]Parent Directory  -  
[TXT]buildsrc-out.txt28-Jun-2022 00:05 1.2K 
[   ]buildsrc-summary.dcf28-Jun-2022 00:05 418  
[TXT]checksrc-out.txt28-Jun-2022 00:05 6.7K 
[   ]checksrc-summary.dcf28-Jun-2022 00:05 430  
[TXT]install-out.txt28-Jun-2022 00:05 1.4K 
[   ]install-summary.dcf28-Jun-2022 00:05 259