Index of /checkResults/devel/bioc-LATEST/chipseq/raw-results/kjohnson

[ICO]NameLast modifiedSizeDescription

[DIR]Parent Directory  -  
[TXT]buildsrc-out.txt08-Jul-2022 00:10 3.9K 
[   ]buildsrc-summary.dcf08-Jul-2022 00:10 343  
[TXT]install-out.txt12-Jul-2022 00:06 1.6K 
[   ]install-summary.dcf12-Jul-2022 00:06 270