Back to Multiple platform build/check report for BioC 3.15
AB[C]DEFGHIJKLMNOPQRSTUVWXYZ

This page was generated on 2022-01-26 11:07:19 -0500 (Wed, 26 Jan 2022).

HostnameOSArch (*)R versionInstalled pkgs
nebbiolo1Linux (Ubuntu 20.04.4 LTS)x86_64R Under development (unstable) (2022-01-05 r81451) -- "Unsuffered Consequences" 4164
riesling1Windows Server 2019 Standardx64R Under development (unstable) (2021-11-21 r81221) -- "Unsuffered Consequences" 4059
palomino3Windows Server 2022 Datacenterx64R Under development (unstable) (2021-12-21 r81400 ucrt) -- "Unsuffered Consequences" 4001
merida1macOS 10.14.6 Mojavex86_64R Under development (unstable) (2022-01-05 r81451) -- "Unsuffered Consequences" 4118
Click on any hostname to see more info about the system (e.g. compilers)      (*) as reported by 'uname -p', except on Windows and Mac OS X

INSTALL results for chipenrich on riesling1


To the developers/maintainers of the chipenrich package:
- Please allow up to 24 hours (and sometimes 48 hours) for your latest push to git@git.bioconductor.org:packages/chipenrich.git to
reflect on this report. See How and When does the builder pull? When will my changes propagate? here for more information.
- Make sure to use the following settings in order to reproduce any error or warning you see on this page.

raw results

Package 297/2075HostnameOS / ArchINSTALLBUILDCHECKBUILD BIN
chipenrich 2.19.0  (landing page)
Raymond G. Cavalcante
Snapshot Date: 2022-01-25 13:55:17 -0500 (Tue, 25 Jan 2022)
git_url: https://git.bioconductor.org/packages/chipenrich
git_branch: master
git_last_commit: bc9e4cd
git_last_commit_date: 2021-10-26 12:09:45 -0500 (Tue, 26 Oct 2021)
nebbiolo1Linux (Ubuntu 20.04.4 LTS) / x86_64  OK    OK    OK  UNNEEDED, same version is already published
riesling1Windows Server 2019 Standard / x64  OK    OK    OK    OK  
palomino3Windows Server 2022 Datacenter / x64  OK    OK    OK    OK  NO, package depends on 'AnnotationDbi' which is not available
merida1macOS 10.14.6 Mojave / x86_64  OK    OK    OK    OK  UNNEEDED, same version is already published

Summary

Package: chipenrich
Version: 2.19.0
Command: D:\biocbuild\bbs-3.15-bioc\R\bin\R.exe CMD INSTALL chipenrich
StartedAt: 2022-01-25 16:05:20 -0500 (Tue, 25 Jan 2022)
EndedAt: 2022-01-25 16:06:37 -0500 (Tue, 25 Jan 2022)
EllapsedTime: 76.2 seconds
RetCode: 0
Status:   OK  

Command output

##############################################################################
##############################################################################
###
### Running command:
###
###   D:\biocbuild\bbs-3.15-bioc\R\bin\R.exe CMD INSTALL chipenrich
###
##############################################################################
##############################################################################


* installing to library 'D:/biocbuild/bbs-3.15-bioc/R/library'
* installing *source* package 'chipenrich' ...
** using staged installation
** R
** inst
** byte-compile and prepare package for lazy loading
** help
*** installing help indices
  converting help for package 'chipenrich'
    finding HTML links ... done
    assign_peak_segments                    html  
    assign_peaks                            html  
    broadenrich                             html  
    calc_peak_gene_overlap                  html  
    chipenrich                              html  
    chipenrich_package                      html  
    filter_genesets                         html  
    genome_to_organism                      html  
    genome_to_orgdb                         html  
    get_test_method                         html  
    hybridenrich                            html  
    load_peaks                              html  
    num_peaks_per_gene                      html  
    peaks2genes                             html  
    plot_chipenrich_spline                  html  
    plot_dist_to_tss                        html  
    plot_gene_coverage                      html  
    plot_polyenrich_spline                  html  
    polyenrich                              html  
    post_process_enrichments                html  
    postprocess_peak_grs                    html  
    proxReg                                 html  
    read_bed                                html  
    read_geneset                            html  
    read_ldef                               html  
    read_mappa                              html  
    recode_peaks                            html  
    reset_ncores_for_windows                html  
    setup_genesets                          html  
    setup_locusdef                          html  
    setup_mappa                             html  
    supported_genesets                      html  
    supported_genomes                       html  
    supported_locusdefs                     html  
    supported_methods                       html  
    supported_read_lengths                  html  
** building package indices
** installing vignettes
** testing if installed package can be loaded from temporary location
** testing if installed package can be loaded from final location
** testing if installed package keeps a record of temporary installation path
* DONE (chipenrich)
Making 'packages.html' ... done