Back to Multiple platform build/check report for BioC 3.15
AB[C]DEFGHIJKLMNOPQRSTUVWXYZ

This page was generated on 2022-01-21 11:07:12 -0500 (Fri, 21 Jan 2022).

HostnameOSArch (*)R versionInstalled pkgs
nebbiolo1Linux (Ubuntu 20.04.4 LTS)x86_64R Under development (unstable) (2022-01-05 r81451) -- "Unsuffered Consequences" 4163
riesling1Windows Server 2019 Standardx64R Under development (unstable) (2021-11-21 r81221) -- "Unsuffered Consequences" 4058
palomino3Windows Server 2022 Datacenterx64R Under development (unstable) (2021-12-21 r81400 ucrt) -- "Unsuffered Consequences" 4000
merida1macOS 10.14.6 Mojavex86_64R Under development (unstable) (2022-01-05 r81451) -- "Unsuffered Consequences" 4117
Click on any hostname to see more info about the system (e.g. compilers)      (*) as reported by 'uname -p', except on Windows and Mac OS X

CHECK results for chipenrich on riesling1


To the developers/maintainers of the chipenrich package:
- Please allow up to 24 hours (and sometimes 48 hours) for your latest push to git@git.bioconductor.org:packages/chipenrich.git to
reflect on this report. See How and When does the builder pull? When will my changes propagate? here for more information.
- Make sure to use the following settings in order to reproduce any error or warning you see on this page.

raw results

Package 297/2075HostnameOS / ArchINSTALLBUILDCHECKBUILD BIN
chipenrich 2.19.0  (landing page)
Raymond G. Cavalcante
Snapshot Date: 2022-01-20 13:55:17 -0500 (Thu, 20 Jan 2022)
git_url: https://git.bioconductor.org/packages/chipenrich
git_branch: master
git_last_commit: bc9e4cd
git_last_commit_date: 2021-10-26 12:09:45 -0500 (Tue, 26 Oct 2021)
nebbiolo1Linux (Ubuntu 20.04.4 LTS) / x86_64  OK    OK    OK  UNNEEDED, same version is already published
riesling1Windows Server 2019 Standard / x64  OK    OK    OK    OK  
palomino3Windows Server 2022 Datacenter / x64  OK    OK    OK    OK  NO, package depends on 'AnnotationDbi' which is not available
merida1macOS 10.14.6 Mojave / x86_64  OK    OK    OK    OK  UNNEEDED, same version is already published

Summary

Package: chipenrich
Version: 2.19.0
Command: D:\biocbuild\bbs-3.15-bioc\R\bin\R.exe CMD check --no-multiarch --install=check:chipenrich.install-out.txt --library=D:\biocbuild\bbs-3.15-bioc\R\library --no-vignettes --timings chipenrich_2.19.0.tar.gz
StartedAt: 2022-01-20 18:29:01 -0500 (Thu, 20 Jan 2022)
EndedAt: 2022-01-20 18:35:49 -0500 (Thu, 20 Jan 2022)
EllapsedTime: 407.9 seconds
RetCode: 0
Status:   OK  
CheckDir: chipenrich.Rcheck
Warnings: 0

Command output

##############################################################################
##############################################################################
###
### Running command:
###
###   D:\biocbuild\bbs-3.15-bioc\R\bin\R.exe CMD check --no-multiarch --install=check:chipenrich.install-out.txt --library=D:\biocbuild\bbs-3.15-bioc\R\library --no-vignettes --timings chipenrich_2.19.0.tar.gz
###
##############################################################################
##############################################################################


* using log directory 'D:/biocbuild/bbs-3.15-bioc/meat/chipenrich.Rcheck'
* using R Under development (unstable) (2021-11-21 r81221)
* using platform: x86_64-w64-mingw32 (64-bit)
* using session charset: ISO8859-1
* using option '--no-vignettes'
* checking for file 'chipenrich/DESCRIPTION' ... OK
* checking extension type ... Package
* this is package 'chipenrich' version '2.19.0'
* checking package namespace information ... OK
* checking package dependencies ... OK
* checking if this is a source package ... OK
* checking if there is a namespace ... OK
* checking for hidden files and directories ... OK
* checking for portable file names ... OK
* checking whether package 'chipenrich' can be installed ... OK
* checking installed package size ... OK
* checking package directory ... OK
* checking 'build' directory ... OK
* checking DESCRIPTION meta-information ... OK
* checking top-level files ... OK
* checking for left-over files ... OK
* checking index information ... OK
* checking package subdirectories ... OK
* checking R files for non-ASCII characters ... OK
* checking R files for syntax errors ... OK
* checking whether the package can be loaded ... OK
* checking whether the package can be loaded with stated dependencies ... OK
* checking whether the package can be unloaded cleanly ... OK
* checking whether the namespace can be loaded with stated dependencies ... OK
* checking whether the namespace can be unloaded cleanly ... OK
* checking dependencies in R code ... OK
* checking S3 generic/method consistency ... OK
* checking replacement functions ... OK
* checking foreign function calls ... OK
* checking R code for possible problems ... OK
* checking Rd files ... OK
* checking Rd metadata ... OK
* checking Rd cross-references ... OK
* checking for missing documentation entries ... OK
* checking for code/documentation mismatches ... OK
* checking Rd \usage sections ... OK
* checking Rd contents ... OK
* checking for unstated dependencies in examples ... OK
* checking files in 'vignettes' ... OK
* checking examples ... OK
Examples with CPU (user + system) or elapsed time > 5s
            user system elapsed
broadenrich 6.70   0.88    7.58
polyenrich  5.56   0.78    6.35
* checking for unstated dependencies in 'tests' ... OK
* checking tests ...
  Running 'testthat.R'
 OK
* checking for unstated dependencies in vignettes ... OK
* checking package vignettes in 'inst/doc' ... OK
* checking running R code from vignettes ... SKIPPED
* checking re-building of vignette outputs ... SKIPPED
* checking PDF version of manual ... OK
* DONE

Status: OK


Installation output

chipenrich.Rcheck/00install.out

##############################################################################
##############################################################################
###
### Running command:
###
###   D:\biocbuild\bbs-3.15-bioc\R\bin\R.exe CMD INSTALL chipenrich
###
##############################################################################
##############################################################################


* installing to library 'D:/biocbuild/bbs-3.15-bioc/R/library'
* installing *source* package 'chipenrich' ...
** using staged installation
** R
** inst
** byte-compile and prepare package for lazy loading
** help
*** installing help indices
  converting help for package 'chipenrich'
    finding HTML links ... done
    assign_peak_segments                    html  
    assign_peaks                            html  
    broadenrich                             html  
    calc_peak_gene_overlap                  html  
    chipenrich                              html  
    chipenrich_package                      html  
    filter_genesets                         html  
    genome_to_organism                      html  
    genome_to_orgdb                         html  
    get_test_method                         html  
    hybridenrich                            html  
    load_peaks                              html  
    num_peaks_per_gene                      html  
    peaks2genes                             html  
    plot_chipenrich_spline                  html  
    plot_dist_to_tss                        html  
    plot_gene_coverage                      html  
    plot_polyenrich_spline                  html  
    polyenrich                              html  
    post_process_enrichments                html  
    postprocess_peak_grs                    html  
    proxReg                                 html  
    read_bed                                html  
    read_geneset                            html  
    read_ldef                               html  
    read_mappa                              html  
    recode_peaks                            html  
    reset_ncores_for_windows                html  
    setup_genesets                          html  
    setup_locusdef                          html  
    setup_mappa                             html  
    supported_genesets                      html  
    supported_genomes                       html  
    supported_locusdefs                     html  
    supported_methods                       html  
    supported_read_lengths                  html  
** building package indices
** installing vignettes
** testing if installed package can be loaded from temporary location
** testing if installed package can be loaded from final location
** testing if installed package keeps a record of temporary installation path
* DONE (chipenrich)
Making 'packages.html' ... done

Tests output

chipenrich.Rcheck/tests/testthat.Rout


R Under development (unstable) (2021-11-21 r81221) -- "Unsuffered Consequences"
Copyright (C) 2021 The R Foundation for Statistical Computing
Platform: x86_64-w64-mingw32/x64 (64-bit)

R is free software and comes with ABSOLUTELY NO WARRANTY.
You are welcome to redistribute it under certain conditions.
Type 'license()' or 'licence()' for distribution details.

R is a collaborative project with many contributors.
Type 'contributors()' for more information and
'citation()' on how to cite R or R packages in publications.

Type 'demo()' for some demos, 'help()' for on-line help, or
'help.start()' for an HTML browser interface to help.
Type 'q()' to quit R.

> library(testthat)
> library(chipenrich)





> 
> test_check("chipenrich")
== Skipped tests ===============================================================
* empty test (3)

[ FAIL 0 | WARN 0 | SKIP 3 | PASS 170 ]
> 
> proc.time()
   user  system elapsed 
 142.10   15.06  157.50 

Example timings

chipenrich.Rcheck/chipenrich-Ex.timings

nameusersystemelapsed
assign_peak_segments0.160.020.18
assign_peaks0.500.010.51
broadenrich6.700.887.58
calc_peak_gene_overlap0.230.000.23
chipenrich1.270.191.45
load_peaks0.050.000.05
num_peaks_per_gene0.400.010.42
peaks2genes0.360.000.36
plot_chipenrich_spline1.140.161.31
plot_dist_to_tss0.220.030.25
plot_gene_coverage1.250.091.35
plot_polyenrich_spline2.170.242.40
polyenrich5.560.786.35
proxReg0.330.010.34
read_bed0.170.000.17
supported_genesets000
supported_genomes000
supported_locusdefs000
supported_methods000
supported_read_lengths000