![]() | Name | Last modified | Size | Description |
---|---|---|---|---|
![]() | Parent Directory | - | ||
![]() | buildbin-out.txt | 29-Sep-2023 00:37 | 1.1K | |
![]() | buildbin-summary.dcf | 29-Sep-2023 00:37 | 533 | |
![]() | buildsrc-out.txt | 29-Sep-2023 00:37 | 854 | |
![]() | buildsrc-summary.dcf | 29-Sep-2023 00:37 | 465 | |
![]() | checksrc-out.txt | 29-Sep-2023 00:37 | 3.6K | |
![]() | checksrc-summary.dcf | 29-Sep-2023 00:37 | 459 | |
![]() | install-out.txt | 29-Sep-2023 00:37 | 971 | |
![]() | install-summary.dcf | 29-Sep-2023 00:37 | 274 | |