![]() | Name | Last modified | Size | Description |
---|---|---|---|---|
![]() | Parent Directory | - | ||
![]() | buildsrc-out.txt | 29-Sep-2023 00:36 | 818 | |
![]() | buildsrc-summary.dcf | 29-Sep-2023 00:36 | 426 | |
![]() | checksrc-out.txt | 29-Sep-2023 00:36 | 3.8K | |
![]() | checksrc-summary.dcf | 29-Sep-2023 00:36 | 426 | |
![]() | install-out.txt | 29-Sep-2023 00:36 | 961 | |
![]() | install-summary.dcf | 29-Sep-2023 00:36 | 265 | |