Index of /checkResults/devel/bioc-LATEST/chipenrich/raw-results/merida1

[ICO]NameLast modifiedSizeDescription

[DIR]Parent Directory  -  
[TXT]buildbin-out.txt21-May-2024 00:37 1.2K 
[   ]buildbin-summary.dcf21-May-2024 00:37 546  
[TXT]buildsrc-out.txt21-May-2024 00:37 828  
[   ]buildsrc-summary.dcf21-May-2024 00:37 437  
[TXT]checksrc-out.txt21-May-2024 00:37 3.7K 
[   ]checksrc-summary.dcf21-May-2024 00:37 457  
[TXT]install-out.txt21-May-2024 00:37 1.0K 
[   ]install-summary.dcf21-May-2024 00:37 275