Name | Last modified | Size | Description | |
---|---|---|---|---|
Parent Directory | - | |||
buildsrc-out.txt | 09-Jul-2024 00:44 | 897 | ||
buildsrc-summary.dcf | 09-Jul-2024 00:44 | 326 | ||
checksrc-out.txt | 05-Jul-2024 00:44 | 3.7K | ||
checksrc-summary.dcf | 05-Jul-2024 00:44 | 417 | ||
install-out.txt | 06-Jul-2024 00:44 | 671 | ||
install-summary.dcf | 06-Jul-2024 00:44 | 255 | ||