Index of /checkResults/devel/bioc-LATEST/chipenrich/raw-results
Name
Last modified
Size
Description
Parent Directory
-
palomino4/
30-Sep-2023 01:03
-
nebbiolo2/
30-Sep-2023 01:02
-
lconway/
30-Sep-2023 01:04
-
kunpeng2/
30-Sep-2023 01:05
-
info.dcf
30-Sep-2023 01:05
264