Back to Multiple platform build/check report for BioC 3.15
AB[C]DEFGHIJKLMNOPQRSTUVWXYZ

This page was generated on 2022-01-20 11:06:57 -0500 (Thu, 20 Jan 2022).

HostnameOSArch (*)R versionInstalled pkgs
nebbiolo1Linux (Ubuntu 20.04.4 LTS)x86_64R Under development (unstable) (2022-01-05 r81451) -- "Unsuffered Consequences" 4162
riesling1Windows Server 2019 Standardx64R Under development (unstable) (2021-11-21 r81221) -- "Unsuffered Consequences" 4057
palomino3Windows Server 2022 Datacenterx64R Under development (unstable) (2021-12-21 r81400 ucrt) -- "Unsuffered Consequences" 3999
merida1macOS 10.14.6 Mojavex86_64R Under development (unstable) (2022-01-05 r81451) -- "Unsuffered Consequences" 4116
Click on any hostname to see more info about the system (e.g. compilers)      (*) as reported by 'uname -p', except on Windows and Mac OS X

CHECK results for chimeraviz on riesling1


To the developers/maintainers of the chimeraviz package:
- Please allow up to 24 hours (and sometimes 48 hours) for your latest push to git@git.bioconductor.org:packages/chimeraviz.git to
reflect on this report. See How and When does the builder pull? When will my changes propagate? here for more information.
- Make sure to use the following settings in order to reproduce any error or warning you see on this page.

raw results

Package 294/2074HostnameOS / ArchINSTALLBUILDCHECKBUILD BIN
chimeraviz 1.21.0  (landing page)
Stian Lågstad
Snapshot Date: 2022-01-19 13:55:26 -0500 (Wed, 19 Jan 2022)
git_url: https://git.bioconductor.org/packages/chimeraviz
git_branch: master
git_last_commit: ea91012
git_last_commit_date: 2021-10-26 12:31:52 -0500 (Tue, 26 Oct 2021)
nebbiolo1Linux (Ubuntu 20.04.4 LTS) / x86_64  OK    OK    OK  UNNEEDED, same version is already published
riesling1Windows Server 2019 Standard / x64  OK    OK    OK    OK  
palomino3Windows Server 2022 Datacenter / x64  OK    OK    OK    OK  NO, package depends on 'Biostrings' which is not available
merida1macOS 10.14.6 Mojave / x86_64  OK    OK    OK    OK  UNNEEDED, same version is already published

Summary

Package: chimeraviz
Version: 1.21.0
Command: D:\biocbuild\bbs-3.15-bioc\R\bin\R.exe CMD check --no-multiarch --install=check:chimeraviz.install-out.txt --library=D:\biocbuild\bbs-3.15-bioc\R\library --no-vignettes --timings chimeraviz_1.21.0.tar.gz
StartedAt: 2022-01-19 18:29:22 -0500 (Wed, 19 Jan 2022)
EndedAt: 2022-01-19 18:37:37 -0500 (Wed, 19 Jan 2022)
EllapsedTime: 494.5 seconds
RetCode: 0
Status:   OK  
CheckDir: chimeraviz.Rcheck
Warnings: 0

Command output

##############################################################################
##############################################################################
###
### Running command:
###
###   D:\biocbuild\bbs-3.15-bioc\R\bin\R.exe CMD check --no-multiarch --install=check:chimeraviz.install-out.txt --library=D:\biocbuild\bbs-3.15-bioc\R\library --no-vignettes --timings chimeraviz_1.21.0.tar.gz
###
##############################################################################
##############################################################################


* using log directory 'D:/biocbuild/bbs-3.15-bioc/meat/chimeraviz.Rcheck'
* using R Under development (unstable) (2021-11-21 r81221)
* using platform: x86_64-w64-mingw32 (64-bit)
* using session charset: ISO8859-1
* using option '--no-vignettes'
* checking for file 'chimeraviz/DESCRIPTION' ... OK
* checking extension type ... Package
* this is package 'chimeraviz' version '1.21.0'
* package encoding: UTF-8
* checking package namespace information ... OK
* checking package dependencies ... NOTE
Depends: includes the non-default packages:
  'Biostrings', 'GenomicRanges', 'IRanges', 'Gviz', 'S4Vectors',
  'ensembldb', 'AnnotationFilter', 'data.table'
Adding so many packages to the search path is excessive and importing
selectively is preferable.
* checking if this is a source package ... OK
* checking if there is a namespace ... OK
* checking for hidden files and directories ... OK
* checking for portable file names ... OK
* checking whether package 'chimeraviz' can be installed ... OK
* checking installed package size ... OK
* checking package directory ... OK
* checking 'build' directory ... OK
* checking DESCRIPTION meta-information ... OK
* checking top-level files ... OK
* checking for left-over files ... OK
* checking index information ... OK
* checking package subdirectories ... OK
* checking R files for non-ASCII characters ... OK
* checking R files for syntax errors ... OK
* checking whether the package can be loaded ... OK
* checking whether the package can be loaded with stated dependencies ... OK
* checking whether the package can be unloaded cleanly ... OK
* checking whether the namespace can be loaded with stated dependencies ... OK
* checking whether the namespace can be unloaded cleanly ... OK
* checking dependencies in R code ... NOTE
Namespace in Imports field not imported from: 'magick'
  All declared Imports should be used.
* checking S3 generic/method consistency ... OK
* checking replacement functions ... OK
* checking foreign function calls ... OK
* checking R code for possible problems ... NOTE
plot_fusion_transcript_with_protein_domain: no visible binding for
  global variable 'protein_domain_location'
Undefined global functions or variables:
  protein_domain_location
* checking Rd files ... OK
* checking Rd metadata ... OK
* checking Rd cross-references ... OK
* checking for missing documentation entries ... OK
* checking for code/documentation mismatches ... OK
* checking Rd \usage sections ... OK
* checking Rd contents ... OK
* checking for unstated dependencies in examples ... OK
* checking files in 'vignettes' ... OK
* checking examples ... OK
Examples with CPU (user + system) or elapsed time > 5s
                                            user system elapsed
plot_fusion                                26.85   1.38   30.62
plot_transcripts                           16.16   0.94   17.10
plot_fusion_transcript                     14.21   0.07   14.26
plot_fusion_transcript_with_protein_domain  7.37   0.04    7.43
plot_fusion_transcripts_graph               6.67   0.02    6.71
select_transcript                           5.40   0.01    5.42
* checking for unstated dependencies in 'tests' ... OK
* checking tests ...
  Running 'testthat.R'
 OK
* checking for unstated dependencies in vignettes ... OK
* checking package vignettes in 'inst/doc' ... OK
* checking running R code from vignettes ... SKIPPED
* checking re-building of vignette outputs ... SKIPPED
* checking PDF version of manual ... OK
* DONE

Status: 3 NOTEs
See
  'D:/biocbuild/bbs-3.15-bioc/meat/chimeraviz.Rcheck/00check.log'
for details.



Installation output

chimeraviz.Rcheck/00install.out

##############################################################################
##############################################################################
###
### Running command:
###
###   D:\biocbuild\bbs-3.15-bioc\R\bin\R.exe CMD INSTALL chimeraviz
###
##############################################################################
##############################################################################


* installing to library 'D:/biocbuild/bbs-3.15-bioc/R/library'
* installing *source* package 'chimeraviz' ...
** using staged installation
** R
** inst
** byte-compile and prepare package for lazy loading
** help
*** installing help indices
  converting help for package 'chimeraviz'
    finding HTML links ... done
    Fusion-class                            html  
    PartnerGene-class                       html  
    add_fusion_reads_alignment              html  
    chimeraviz-internals-fusions_to_gene_label_data
                                            html  
    chimeraviz-internals-fusions_to_link_data
                                            html  
    chimeraviz-internals-scaleListToInterval
                                            html  
    chimeraviz                              html  
    create_fusion_report                    html  
    decide_transcript_category              html  
    down_shift                              html  
    downstream_partner_gene                 html  
    fetch_reads_from_fastq                  html  
    fusion_spanning_reads_count             html  
    fusion_split_reads_count                html  
    fusion_to_data_frame                    html  
    get_ensembl_ids                         html  
    get_fusion_by_chromosome                html  
    get_fusion_by_gene_name                 html  
    get_fusion_by_id                        html  
    get_transcripts_ensembl_db              html  
    import_aeron                            html  
    import_chimpipe                         html  
    import_defuse                           html  
    import_ericscript                       html  
    import_function_non_ucsc                html  
    import_fusioncatcher                    html  
    import_fusionmap                        html  
    import_infusion                         html  
    import_jaffa                            html  
    import_oncofuse                         html  
    import_prada                            html  
    import_soapfuse                         html  
    import_squid                            html  
    import_starfusion                       html  
    partner_gene_ensembl_id                 html  
    partner_gene_junction_sequence          html  
    plot_circle                             html  
    plot_fusion                             html  
    plot_fusion_reads                       html  
    plot_fusion_transcript                  html  
    plot_fusion_transcript_with_protein_domain
                                            html  
    plot_fusion_transcripts_graph           html  
    plot_transcripts                        html  
    raw_Homo_sapiens.GRCh37.74              html  
    raw_chimpipe                            html  
    raw_cytobandhg19                        html  
    raw_cytobandhg38                        html  
    raw_defuse                              html  
    raw_ericscript                          html  
    raw_fusion5267proteindomains            html  
    raw_fusion5267reads                     html  
    raw_fusion5267readsBedGraph             html  
    raw_fusioncatcher                       html  
    raw_fusionmap                           html  
    raw_infusion                            html  
    raw_jaffa                               html  
    raw_oncofuse                            html  
    raw_prada                               html  
    raw_soapfuse                            html  
    raw_starfusion                          html  
    select_transcript                       html  
    show-Fusion-method                      html  
    show-PartnerGene-method                 html  
    split_on_utr_and_add_feature            html  
    upstream_partner_gene                   html  
    write_fusion_reference                  html  
** building package indices
** installing vignettes
** testing if installed package can be loaded from temporary location
** testing if installed package can be loaded from final location
** testing if installed package keeps a record of temporary installation path
* DONE (chimeraviz)
Making 'packages.html' ... done

Tests output

chimeraviz.Rcheck/tests/testthat.Rout


R Under development (unstable) (2021-11-21 r81221) -- "Unsuffered Consequences"
Copyright (C) 2021 The R Foundation for Statistical Computing
Platform: x86_64-w64-mingw32/x64 (64-bit)

R is free software and comes with ABSOLUTELY NO WARRANTY.
You are welcome to redistribute it under certain conditions.
Type 'license()' or 'licence()' for distribution details.

R is a collaborative project with many contributors.
Type 'contributors()' for more information and
'citation()' on how to cite R or R packages in publications.

Type 'demo()' for some demos, 'help()' for on-line help, or
'help.start()' for an HTML browser interface to help.
Type 'q()' to quit R.

> library(testthat)
> library(chimeraviz)
Loading required package: Biostrings
Loading required package: BiocGenerics

Attaching package: 'BiocGenerics'

The following objects are masked from 'package:stats':

    IQR, mad, sd, var, xtabs

The following objects are masked from 'package:base':

    Filter, Find, Map, Position, Reduce, anyDuplicated, append,
    as.data.frame, basename, cbind, colnames, dirname, do.call,
    duplicated, eval, evalq, get, grep, grepl, intersect, is.unsorted,
    lapply, mapply, match, mget, order, paste, pmax, pmax.int, pmin,
    pmin.int, rank, rbind, rownames, sapply, setdiff, sort, table,
    tapply, union, unique, unsplit, which.max, which.min

Loading required package: S4Vectors
Loading required package: stats4

Attaching package: 'S4Vectors'

The following objects are masked from 'package:base':

    I, expand.grid, unname

Loading required package: IRanges

Attaching package: 'IRanges'

The following object is masked from 'package:grDevices':

    windows

Loading required package: XVector
Loading required package: GenomeInfoDb

Attaching package: 'Biostrings'

The following object is masked from 'package:base':

    strsplit

Loading required package: GenomicRanges
Loading required package: Gviz
Loading required package: grid

Attaching package: 'grid'

The following object is masked from 'package:Biostrings':

    pattern

Loading required package: ensembldb
Loading required package: GenomicFeatures
Loading required package: AnnotationDbi
Loading required package: Biobase
Welcome to Bioconductor

    Vignettes contain introductory material; view with
    'browseVignettes()'. To cite Bioconductor, see
    'citation("Biobase")', and for packages 'citation("pkgname")'.

Loading required package: AnnotationFilter

Attaching package: 'AnnotationFilter'

The following object is masked from 'package:Gviz':

    feature

The following object is masked from 'package:testthat':

    not


Attaching package: 'ensembldb'

The following object is masked from 'package:stats':

    filter

Loading required package: data.table

Attaching package: 'data.table'

The following object is masked from 'package:GenomicRanges':

    shift

The following object is masked from 'package:IRanges':

    shift

The following objects are masked from 'package:S4Vectors':

    first, second



> 
> test_check("chimeraviz")
== Skipped tests ===============================================================
* On Windows (2)

[ FAIL 0 | WARN 0 | SKIP 2 | PASS 219 ]
Warning message:
call dbDisconnect() when finished working with a connection 
> 
> proc.time()
   user  system elapsed 
 122.21    4.95  130.65 

Example timings

chimeraviz.Rcheck/chimeraviz-Ex.timings

nameusersystemelapsed
add_fusion_reads_alignment1.710.061.77
create_fusion_report1.470.943.32
decide_transcript_category0.230.000.24
down_shift0.080.000.07
downstream_partner_gene0.080.000.08
fetch_reads_from_fastq000
fusion_spanning_reads_count0.030.000.03
fusion_split_reads_count0.040.000.05
fusion_to_data_frame0.040.000.03
get_ensembl_ids1.340.021.36
get_fusion_by_chromosome0.050.000.05
get_fusion_by_gene_name0.030.000.03
get_fusion_by_id0.040.000.05
get_transcripts_ensembl_db4.550.174.71
import_aeron0.310.000.32
import_chimpipe0.070.000.06
import_defuse0.060.000.06
import_ericscript0.060.000.06
import_fusioncatcher0.060.000.07
import_fusionmap0.100.000.09
import_infusion0.060.000.06
import_jaffa0.060.000.07
import_oncofuse0.050.000.04
import_prada0.080.000.08
import_soapfuse0.060.000.06
import_squid0.060.000.07
import_starfusion0.060.000.06
partner_gene_ensembl_id0.050.000.04
partner_gene_junction_sequence0.030.000.04
plot_circle0.360.340.70
plot_fusion26.85 1.3830.62
plot_fusion_reads1.900.071.99
plot_fusion_transcript14.21 0.0714.26
plot_fusion_transcript_with_protein_domain7.370.047.43
plot_fusion_transcripts_graph6.670.026.71
plot_transcripts16.16 0.9417.10
select_transcript5.400.015.42
split_on_utr_and_add_feature0.430.000.42
upstream_partner_gene0.040.000.05
write_fusion_reference0.030.000.03