Back to Multiple platform build/check report for BioC 3.15
AB[C]DEFGHIJKLMNOPQRSTUVWXYZ

This page was generated on 2022-01-19 11:07:22 -0500 (Wed, 19 Jan 2022).

HostnameOSArch (*)R versionInstalled pkgs
nebbiolo1Linux (Ubuntu 20.04.4 LTS)x86_64R Under development (unstable) (2022-01-05 r81451) -- "Unsuffered Consequences" 4161
riesling1Windows Server 2019 Standardx64R Under development (unstable) (2021-11-21 r81221) -- "Unsuffered Consequences" 4056
palomino3Windows Server 2022 Datacenterx64R Under development (unstable) (2021-12-21 r81400 ucrt) -- "Unsuffered Consequences" 3998
merida1macOS 10.14.6 Mojavex86_64R Under development (unstable) (2022-01-05 r81451) -- "Unsuffered Consequences" 4115
Click on any hostname to see more info about the system (e.g. compilers)      (*) as reported by 'uname -p', except on Windows and Mac OS X

BUILD BIN results for chimeraviz on riesling1


To the developers/maintainers of the chimeraviz package:
- Please allow up to 24 hours (and sometimes 48 hours) for your latest push to git@git.bioconductor.org:packages/chimeraviz.git to
reflect on this report. See How and When does the builder pull? When will my changes propagate? here for more information.
- Make sure to use the following settings in order to reproduce any error or warning you see on this page.

raw results

Package 294/2074HostnameOS / ArchINSTALLBUILDCHECKBUILD BIN
chimeraviz 1.21.0  (landing page)
Stian Lågstad
Snapshot Date: 2022-01-18 13:55:18 -0500 (Tue, 18 Jan 2022)
git_url: https://git.bioconductor.org/packages/chimeraviz
git_branch: master
git_last_commit: ea91012
git_last_commit_date: 2021-10-26 12:31:52 -0500 (Tue, 26 Oct 2021)
nebbiolo1Linux (Ubuntu 20.04.4 LTS) / x86_64  OK    OK    OK  UNNEEDED, same version is already published
riesling1Windows Server 2019 Standard / x64  OK    OK    OK    OK  
palomino3Windows Server 2022 Datacenter / x64  OK    OK    OK    OK  NO, package depends on 'Biostrings' which is not available
merida1macOS 10.14.6 Mojave / x86_64  OK    OK    OK    OK  UNNEEDED, same version is already published

Summary

Package: chimeraviz
Version: 1.21.0
Command: rm -rf chimeraviz.buildbin-libdir && mkdir chimeraviz.buildbin-libdir && D:\biocbuild\bbs-3.15-bioc\R\bin\R.exe CMD INSTALL --build --library=chimeraviz.buildbin-libdir chimeraviz_1.21.0.tar.gz
StartedAt: 2022-01-18 20:44:04 -0500 (Tue, 18 Jan 2022)
EndedAt: 2022-01-18 20:45:20 -0500 (Tue, 18 Jan 2022)
EllapsedTime: 75.6 seconds
RetCode: 0
Status:   OK  
PackageFile: chimeraviz_1.21.0.zip
PackageFileSize: 3.524 MiB

Command output

##############################################################################
##############################################################################
###
### Running command:
###
###   rm -rf chimeraviz.buildbin-libdir && mkdir chimeraviz.buildbin-libdir && D:\biocbuild\bbs-3.15-bioc\R\bin\R.exe CMD INSTALL --build --library=chimeraviz.buildbin-libdir chimeraviz_1.21.0.tar.gz
###
##############################################################################
##############################################################################


* installing *source* package 'chimeraviz' ...
** using staged installation
** R
** inst
** byte-compile and prepare package for lazy loading
** help
*** installing help indices
  converting help for package 'chimeraviz'
    finding HTML links ... done
    Fusion-class                            html  
    PartnerGene-class                       html  
    add_fusion_reads_alignment              html  
    chimeraviz-internals-fusions_to_gene_label_data
                                            html  
    chimeraviz-internals-fusions_to_link_data
                                            html  
    chimeraviz-internals-scaleListToInterval
                                            html  
    chimeraviz                              html  
    create_fusion_report                    html  
    decide_transcript_category              html  
    down_shift                              html  
    downstream_partner_gene                 html  
    fetch_reads_from_fastq                  html  
    fusion_spanning_reads_count             html  
    fusion_split_reads_count                html  
    fusion_to_data_frame                    html  
    get_ensembl_ids                         html  
    get_fusion_by_chromosome                html  
    get_fusion_by_gene_name                 html  
    get_fusion_by_id                        html  
    get_transcripts_ensembl_db              html  
    import_aeron                            html  
    import_chimpipe                         html  
    import_defuse                           html  
    import_ericscript                       html  
    import_function_non_ucsc                html  
    import_fusioncatcher                    html  
    import_fusionmap                        html  
    import_infusion                         html  
    import_jaffa                            html  
    import_oncofuse                         html  
    import_prada                            html  
    import_soapfuse                         html  
    import_squid                            html  
    import_starfusion                       html  
    partner_gene_ensembl_id                 html  
    partner_gene_junction_sequence          html  
    plot_circle                             html  
    plot_fusion                             html  
    plot_fusion_reads                       html  
    plot_fusion_transcript                  html  
    plot_fusion_transcript_with_protein_domain
                                            html  
    plot_fusion_transcripts_graph           html  
    plot_transcripts                        html  
    raw_Homo_sapiens.GRCh37.74              html  
    raw_chimpipe                            html  
    raw_cytobandhg19                        html  
    raw_cytobandhg38                        html  
    raw_defuse                              html  
    raw_ericscript                          html  
    raw_fusion5267proteindomains            html  
    raw_fusion5267reads                     html  
    raw_fusion5267readsBedGraph             html  
    raw_fusioncatcher                       html  
    raw_fusionmap                           html  
    raw_infusion                            html  
    raw_jaffa                               html  
    raw_oncofuse                            html  
    raw_prada                               html  
    raw_soapfuse                            html  
    raw_starfusion                          html  
    select_transcript                       html  
    show-Fusion-method                      html  
    show-PartnerGene-method                 html  
    split_on_utr_and_add_feature            html  
    upstream_partner_gene                   html  
    write_fusion_reference                  html  
** building package indices
** installing vignettes
** testing if installed package can be loaded from temporary location
** testing if installed package can be loaded from final location
** testing if installed package keeps a record of temporary installation path
* MD5 sums
packaged installation of 'chimeraviz' as chimeraviz_1.21.0.zip
* DONE (chimeraviz)