Name | Last modified | Size | Description | |
---|---|---|---|---|
Parent Directory | - | |||
checksrc-out.txt | 28-Jul-2024 00:40 | 4.3K | ||
buildbin-out.txt | 28-Jul-2024 00:40 | 1.2K | ||
install-out.txt | 28-Jul-2024 00:40 | 1.0K | ||
buildsrc-out.txt | 28-Jul-2024 00:40 | 920 | ||
buildbin-summary.dcf | 28-Jul-2024 00:40 | 548 | ||
checksrc-summary.dcf | 28-Jul-2024 00:40 | 456 | ||
buildsrc-summary.dcf | 28-Jul-2024 00:40 | 437 | ||
install-summary.dcf | 28-Jul-2024 00:40 | 275 | ||