Name | Last modified | Size | Description | |
---|---|---|---|---|
Parent Directory | - | |||
buildbin-summary.dcf | 17-Jul-2024 00:40 | 515 | ||
buildbin-out.txt | 17-Jul-2024 00:40 | 1.1K | ||
checksrc-out.txt | 17-Jul-2024 00:40 | 6.6K | ||
checksrc-summary.dcf | 17-Jul-2024 00:40 | 461 | ||
buildsrc-summary.dcf | 17-Jul-2024 00:40 | 454 | ||
buildsrc-out.txt | 17-Jul-2024 00:40 | 900 | ||
install-summary.dcf | 17-Jul-2024 00:40 | 272 | ||
install-out.txt | 17-Jul-2024 00:40 | 1.0K | ||