Name | Last modified | Size | Description | |
---|---|---|---|---|
Parent Directory | - | |||
install-summary.dcf | 12-Jun-2024 04:41 | 267 | ||
buildsrc-summary.dcf | 12-Jun-2024 04:41 | 424 | ||
checksrc-summary.dcf | 12-Jun-2024 04:41 | 446 | ||
buildbin-summary.dcf | 12-Jun-2024 04:41 | 524 | ||
buildsrc-out.txt | 12-Jun-2024 04:41 | 875 | ||
install-out.txt | 12-Jun-2024 04:41 | 1.0K | ||
buildbin-out.txt | 12-Jun-2024 04:41 | 1.1K | ||
checksrc-out.txt | 12-Jun-2024 04:41 | 6.8K | ||