Back to Multiple platform build/check report for BioC 3.15
AB[C]DEFGHIJKLMNOPQRSTUVWXYZ

This page was generated on 2021-11-27 14:04:56 -0500 (Sat, 27 Nov 2021).

BUILD results for censcyt on riesling1

To the developers/maintainers of the censcyt package:
- Please allow up to 24 hours (and sometimes 48 hours) for your latest push to git@git.bioconductor.org:packages/censcyt.git to
reflect on this report. See How and When does the builder pull? When will my changes propagate? here for more information.
- Make sure to use the following settings in order to reproduce any error or warning you see on this page.

raw results

Package 274/2068HostnameOS / ArchINSTALLBUILDCHECKBUILD BIN
censcyt 1.3.0  (landing page)
Reto Gerber
Snapshot Date: 2021-11-26 14:50:14 -0500 (Fri, 26 Nov 2021)
git_url: https://git.bioconductor.org/packages/censcyt
git_branch: master
git_last_commit: 10f9f74
git_last_commit_date: 2021-10-26 13:05:50 -0500 (Tue, 26 Oct 2021)
nebbiolo1Linux (Ubuntu 20.04.3 LTS) / x86_64  OK    OK    OK  UNNEEDED, same version is already published
riesling1Windows Server 2019 Standard / x64  OK    OK    ERROR    OK  
merida1macOS 10.14.6 Mojave / x86_64  OK    OK    ERROR    OK  

Summary

Package: censcyt
Version: 1.3.0
Command: chmod a+r censcyt -R && D:\biocbuild\bbs-3.15-bioc\R\bin\R.exe CMD build --keep-empty-dirs --no-resave-data censcyt
StartedAt: 2021-11-26 20:11:45 -0500 (Fri, 26 Nov 2021)
EndedAt: 2021-11-26 20:16:16 -0500 (Fri, 26 Nov 2021)
EllapsedTime: 270.9 seconds
RetCode: 0
Status:   OK  
PackageFile: censcyt_1.3.0.tar.gz
PackageFileSize: 352.6 KiB

Command output

##############################################################################
##############################################################################
###
### Running command:
###
###   chmod a+r censcyt -R && D:\biocbuild\bbs-3.15-bioc\R\bin\R.exe CMD build --keep-empty-dirs --no-resave-data censcyt
###
##############################################################################
##############################################################################


* checking for file 'censcyt/DESCRIPTION' ... OK
* preparing 'censcyt':
* checking DESCRIPTION meta-information ... OK
* installing the package to build vignettes
* creating vignettes ... OK
* checking for LF line-endings in source and make files and shell scripts
* checking for empty or unneeded directories
* building 'censcyt_1.3.0.tar.gz'