Name | Last modified | Size | Description | |
---|---|---|---|---|
Parent Directory | - | |||
buildsrc-out.txt | 29-Mar-2024 00:36 | 35K | ||
buildsrc-summary.dcf | 29-Mar-2024 00:36 | 333 | ||
checksrc-out.txt | 23-Mar-2024 00:36 | 3.6K | ||
checksrc-summary.dcf | 23-Mar-2024 00:36 | 414 | ||
install-out.txt | 29-Mar-2024 00:36 | 952 | ||
install-summary.dcf | 29-Mar-2024 00:36 | 259 | ||