Back to Multiple platform build/check report for BioC 3.14
AB[C]DEFGHIJKLMNOPQRSTUVWXYZ

This page was generated on 2021-10-23 14:06:21 -0400 (Sat, 23 Oct 2021).

BUILD BIN results for cellity on riesling1

To the developers/maintainers of the cellity package:
- Please allow up to 24 hours (and sometimes 48 hours) for your latest push to git@git.bioconductor.org:packages/cellity.git to
reflect on this report. See How and When does the builder pull? When will my changes propagate? here for more information.
- Make sure to use the following settings in order to reproduce any error or warning you see on this page.

raw results

Package 268/2083HostnameOS / ArchINSTALLBUILDCHECKBUILD BIN
cellity 1.21.0  (landing page)
Tomislav Ilicic
Snapshot Date: 2021-10-22 14:50:11 -0400 (Fri, 22 Oct 2021)
git_url: https://git.bioconductor.org/packages/cellity
git_branch: master
git_last_commit: 9d9d732
git_last_commit_date: 2021-05-19 12:18:12 -0400 (Wed, 19 May 2021)
nebbiolo2Linux (Ubuntu 20.04.2 LTS) / x86_64  OK    OK    OK  UNNEEDED, same version is already published
riesling1Windows Server 2019 Standard / x64  OK    OK    OK    OK  UNNEEDED, same version is already published
merida1macOS 10.14.6 Mojave / x86_64  OK    OK    OK    OK  UNNEEDED, same version is already published

Summary

Package: cellity
Version: 1.21.0
Command: rm -rf cellity.buildbin-libdir && mkdir cellity.buildbin-libdir && D:\biocbuild\bbs-3.14-bioc\R\bin\R.exe CMD INSTALL --merge-multiarch --build --library=cellity.buildbin-libdir cellity_1.21.0.tar.gz
StartedAt: 2021-10-23 09:59:35 -0400 (Sat, 23 Oct 2021)
EndedAt: 2021-10-23 10:03:44 -0400 (Sat, 23 Oct 2021)
EllapsedTime: 248.7 seconds
RetCode: 0
Status:   OK  
PackageFile: cellity_1.21.0.zip
PackageFileSize: 1.3 MiB

Command output

##############################################################################
##############################################################################
###
### Running command:
###
###   rm -rf cellity.buildbin-libdir && mkdir cellity.buildbin-libdir && D:\biocbuild\bbs-3.14-bioc\R\bin\R.exe CMD INSTALL --merge-multiarch --build --library=cellity.buildbin-libdir cellity_1.21.0.tar.gz
###
##############################################################################
##############################################################################



install for i386

* installing *source* package 'cellity' ...
** using staged installation
** R
** data
*** moving datasets to lazyload DB
** inst
** byte-compile and prepare package for lazy loading
** help
*** installing help indices
  converting help for package 'cellity'
    finding HTML links ... done
    assess_cell_quality_PCA                 html  
    assess_cell_quality_SVM                 html  
    cellity-package                         html  
    extra_human_genes                       html  
    extra_mouse_genes                       html  
    extract_features                        html  
    feature_generation                      html  
    feature_info                            html  
    mES1_features                           html  
    mES1_labels                             html  
    multiplot                               html  
    normalise_by_factor                     html  
    param_mES_all                           html  
    param_mES_common                        html  
    plot_pca                                html  
    sample_counts                           html  
    sample_stats                            html  
    simple_cap                              html  
    sum_prop                                html  
    training_mES_features                   html  
    training_mES_labels                     html  
    uni.plot                                html  
** building package indices
** installing vignettes
** testing if installed package can be loaded from temporary location
** testing if installed package can be loaded from final location
** testing if installed package keeps a record of temporary installation path

install for x64

* installing *source* package 'cellity' ...
** testing if installed package can be loaded
* MD5 sums
packaged installation of 'cellity' as cellity_1.21.0.zip
* DONE (cellity)