Index of /checkResults/devel/bioc-LATEST/cellity/raw-results

[ICO]NameLast modifiedSizeDescription

[DIR]Parent Directory  -  
[   ]info.dcf24-Oct-2021 03:06 263  
[DIR]merida1/24-Oct-2021 03:06 -  
[DIR]nebbiolo2/24-Oct-2021 03:05 -  
[DIR]riesling1/24-Oct-2021 03:06 -