Back to Multiple platform build/check report for BioC 3.15
AB[C]DEFGHIJKLMNOPQRSTUVWXYZ

This page was generated on 2022-01-26 11:07:17 -0500 (Wed, 26 Jan 2022).

HostnameOSArch (*)R versionInstalled pkgs
nebbiolo1Linux (Ubuntu 20.04.4 LTS)x86_64R Under development (unstable) (2022-01-05 r81451) -- "Unsuffered Consequences" 4164
riesling1Windows Server 2019 Standardx64R Under development (unstable) (2021-11-21 r81221) -- "Unsuffered Consequences" 4059
palomino3Windows Server 2022 Datacenterx64R Under development (unstable) (2021-12-21 r81400 ucrt) -- "Unsuffered Consequences" 4001
merida1macOS 10.14.6 Mojavex86_64R Under development (unstable) (2022-01-05 r81451) -- "Unsuffered Consequences" 4118
Click on any hostname to see more info about the system (e.g. compilers)      (*) as reported by 'uname -p', except on Windows and Mac OS X

CHECK results for cellHTS2 on riesling1


To the developers/maintainers of the cellHTS2 package:
- Please allow up to 24 hours (and sometimes 48 hours) for your latest push to git@git.bioconductor.org:packages/cellHTS2.git to
reflect on this report. See How and When does the builder pull? When will my changes propagate? here for more information.
- Make sure to use the following settings in order to reproduce any error or warning you see on this page.

raw results

Package 263/2075HostnameOS / ArchINSTALLBUILDCHECKBUILD BIN
cellHTS2 2.59.0  (landing page)
Joseph Barry
Snapshot Date: 2022-01-25 13:55:17 -0500 (Tue, 25 Jan 2022)
git_url: https://git.bioconductor.org/packages/cellHTS2
git_branch: master
git_last_commit: 023536c
git_last_commit_date: 2021-10-26 11:51:17 -0500 (Tue, 26 Oct 2021)
nebbiolo1Linux (Ubuntu 20.04.4 LTS) / x86_64  OK    OK    OK  UNNEEDED, same version is already published
riesling1Windows Server 2019 Standard / x64  OK    OK    OK    OK  
palomino3Windows Server 2022 Datacenter / x64  OK    OK    OK    OK  NO, package depends on 'Biobase' which is not available
merida1macOS 10.14.6 Mojave / x86_64  OK    OK    OK    OK  UNNEEDED, same version is already published

Summary

Package: cellHTS2
Version: 2.59.0
Command: D:\biocbuild\bbs-3.15-bioc\R\bin\R.exe CMD check --no-multiarch --install=check:cellHTS2.install-out.txt --library=D:\biocbuild\bbs-3.15-bioc\R\library --no-vignettes --timings cellHTS2_2.59.0.tar.gz
StartedAt: 2022-01-25 18:32:10 -0500 (Tue, 25 Jan 2022)
EndedAt: 2022-01-25 18:35:47 -0500 (Tue, 25 Jan 2022)
EllapsedTime: 216.3 seconds
RetCode: 0
Status:   OK  
CheckDir: cellHTS2.Rcheck
Warnings: 0

Command output

##############################################################################
##############################################################################
###
### Running command:
###
###   D:\biocbuild\bbs-3.15-bioc\R\bin\R.exe CMD check --no-multiarch --install=check:cellHTS2.install-out.txt --library=D:\biocbuild\bbs-3.15-bioc\R\library --no-vignettes --timings cellHTS2_2.59.0.tar.gz
###
##############################################################################
##############################################################################


* using log directory 'D:/biocbuild/bbs-3.15-bioc/meat/cellHTS2.Rcheck'
* using R Under development (unstable) (2021-11-21 r81221)
* using platform: x86_64-w64-mingw32 (64-bit)
* using session charset: ISO8859-1
* using option '--no-vignettes'
* checking for file 'cellHTS2/DESCRIPTION' ... OK
* this is package 'cellHTS2' version '2.59.0'
* checking package namespace information ... OK
* checking package dependencies ... NOTE
Depends: includes the non-default packages:
  'RColorBrewer', 'Biobase', 'genefilter', 'splots', 'vsn', 'hwriter',
  'locfit', 'grid'
Adding so many packages to the search path is excessive and importing
selectively is preferable.
* checking if this is a source package ... OK
* checking if there is a namespace ... OK
* checking for hidden files and directories ... OK
* checking for portable file names ... OK
* checking whether package 'cellHTS2' can be installed ... OK
* checking installed package size ... NOTE
  installed size is  5.1Mb
  sub-directories of 1Mb or more:
    KcViab   2.0Mb
    R        1.1Mb
* checking package directory ... OK
* checking 'build' directory ... OK
* checking DESCRIPTION meta-information ... OK
* checking top-level files ... OK
* checking for left-over files ... OK
* checking index information ... OK
* checking package subdirectories ... OK
* checking R files for non-ASCII characters ... OK
* checking R files for syntax errors ... OK
* checking whether the package can be loaded ... OK
* checking whether the package can be loaded with stated dependencies ... OK
* checking whether the package can be unloaded cleanly ... OK
* checking whether the namespace can be loaded with stated dependencies ... OK
* checking whether the namespace can be unloaded cleanly ... OK
* checking dependencies in R code ... NOTE
Package in Depends field not imported from: 'genefilter'
  These packages need to be imported from (in the NAMESPACE file)
  for when this namespace is loaded but not attached.
Unexported object imported by a ':::' call: 'Biobase:::.showAnnotatedDataFrame'
  See the note in ?`:::` about the use of this operator.
* checking S3 generic/method consistency ... OK
* checking replacement functions ... OK
* checking foreign function calls ... OK
* checking R code for possible problems ... NOTE
plotPlate: no visible global function definition for 'dev.cur'
plotPlate: no visible global function definition for 'plot.new'
Undefined global functions or variables:
  dev.cur plot.new
Consider adding
  importFrom("grDevices", "dev.cur")
  importFrom("graphics", "plot.new")
to your NAMESPACE file.
* checking Rd files ... OK
* checking Rd metadata ... OK
* checking Rd cross-references ... NOTE
Unknown packages 'cellHTS', 'prada' in Rd xrefs
* checking for missing documentation entries ... OK
* checking for code/documentation mismatches ... OK
* checking Rd \usage sections ... OK
* checking Rd contents ... OK
* checking for unstated dependencies in examples ... OK
* checking contents of 'data' directory ... OK
* checking data for non-ASCII characters ... OK
* checking data for ASCII and uncompressed saves ... OK
* checking files in 'vignettes' ... OK
* checking examples ... OK
* checking for unstated dependencies in 'tests' ... OK
* checking tests ...
  Running 'test.R'
 OK
* checking for unstated dependencies in vignettes ... OK
* checking package vignettes in 'inst/doc' ... OK
* checking running R code from vignettes ... SKIPPED
* checking re-building of vignette outputs ... SKIPPED
* checking PDF version of manual ... OK
* DONE

Status: 5 NOTEs
See
  'D:/biocbuild/bbs-3.15-bioc/meat/cellHTS2.Rcheck/00check.log'
for details.



Installation output

cellHTS2.Rcheck/00install.out

##############################################################################
##############################################################################
###
### Running command:
###
###   D:\biocbuild\bbs-3.15-bioc\R\bin\R.exe CMD INSTALL cellHTS2
###
##############################################################################
##############################################################################


* installing to library 'D:/biocbuild/bbs-3.15-bioc/R/library'
* installing *source* package 'cellHTS2' ...
** using staged installation
** R
** data
** inst
** byte-compile and prepare package for lazy loading
** help
*** installing help indices
  converting help for package 'cellHTS2'
    finding HTML links ... done
    Bscore                                  html  
    Data                                    html  
    ROC-class                               html  
    ROC                                     html  
    annotate                                html  
    batch                                   html  
    bdgpbiomart                             html  
    buildCellHTS2                           html  
    cellHTS-class                           html  
    cellHTS2                                html  
    configurationAsScreenPlot               html  
    configure                               html  
    convertOldCellHTS                       html  
    convertWellCoordinates                  html  
    data-KcViab                             html  
    data-KcViabSmall                        html  
    data-dualCh                             html  
    data-oldKcViabSmall                     html  
    getDynamicRange                         html  
    getEnVisionRawData                      html  
    getMeasureRepAgreement                  html  
    getTopTable                             html  
    getZfactor                              html  
    gseaModule                              html  
    imageScreen                             html  
    intensityFiles                          html  
    normalizePlates                         html  
    oneRowPerId                             html  
    plate                                   html  
    plateEffects                            html  
    plotSpatialEffects                      html  
    readHTAnalystData                       html  
    readPlateList                           html  
    rsa                                     html  
    scoreReplicates                         html  
    scores2calls                            html  
    setSettings                             html  
    spatialNormalization                    html  
    state                                   html  
    summarizeChannels                       html  
    summarizeReplicates                     html  
    templateDescriptionFile                 html  
    updateCellHTS                           html  
    wellAnno                                html  
    write.tabdel                            html  
    writeReport                             html  
    writeTab                                html  
** building package indices
** installing vignettes
** testing if installed package can be loaded from temporary location
** testing if installed package can be loaded from final location
** testing if installed package keeps a record of temporary installation path
* DONE (cellHTS2)
Making 'packages.html' ...Warning in packageDescription(i, lib.loc = lib, fields = "Title", encoding = "UTF-8") :
  DESCRIPTION file of package 'flowPloidy' is missing or broken
 done

Tests output

cellHTS2.Rcheck/tests/test.Rout


R Under development (unstable) (2021-11-21 r81221) -- "Unsuffered Consequences"
Copyright (C) 2021 The R Foundation for Statistical Computing
Platform: x86_64-w64-mingw32/x64 (64-bit)

R is free software and comes with ABSOLUTELY NO WARRANTY.
You are welcome to redistribute it under certain conditions.
Type 'license()' or 'licence()' for distribution details.

R is a collaborative project with many contributors.
Type 'contributors()' for more information and
'citation()' on how to cite R or R packages in publications.

Type 'demo()' for some demos, 'help()' for on-line help, or
'help.start()' for an HTML browser interface to help.
Type 'q()' to quit R.

> ## cat tests/test.R | R --vanilla
> ## cellHTS2 crash test on various conditions
> library(cellHTS2)
Loading required package: RColorBrewer
Loading required package: Biobase
Loading required package: BiocGenerics

Attaching package: 'BiocGenerics'

The following objects are masked from 'package:stats':

    IQR, mad, sd, var, xtabs

The following objects are masked from 'package:base':

    Filter, Find, Map, Position, Reduce, anyDuplicated, append,
    as.data.frame, basename, cbind, colnames, dirname, do.call,
    duplicated, eval, evalq, get, grep, grepl, intersect, is.unsorted,
    lapply, mapply, match, mget, order, paste, pmax, pmax.int, pmin,
    pmin.int, rank, rbind, rownames, sapply, setdiff, sort, table,
    tapply, union, unique, unsplit, which.max, which.min

Welcome to Bioconductor

    Vignettes contain introductory material; view with
    'browseVignettes()'. To cite Bioconductor, see
    'citation("Biobase")', and for packages 'citation("pkgname")'.

Loading required package: genefilter
Loading required package: splots
Loading required package: vsn
Loading required package: hwriter
Loading required package: locfit
locfit 1.5-9.4 	 2020-03-24
Loading required package: grid
> path <- system.file("testscreen", package="cellHTS2")
> 
> testPlatelist=function(platelist, normalize=TRUE)
+ {
+     x <- readPlateList(platelist, name="test", path=path)
+     x <- configure(x, descripFile="description.txt", confFile="plateconf.txt",
+                    logFile="screenlog.txt", path=path)
+     
+     if (normalize)
+     {
+         ## normalize results
+         xn <- normalizePlates(x, scale="multiplicative", log=FALSE, method="median",
+                               varianceAdjust="none")
+         
+         ## score and summarize replicates
+         xsc <- scoreReplicates(xn, sign="-", method="zscore")
+         xsc <- summarizeReplicates(xsc, summary="mean")
+     }
+     
+     ## write reports
+     outdir <- file.path(tempdir(),platelist,'raw')
+     mainScriptFile <-  system.file("scripts/dummy.R", package="cellHTS2")
+     writeReport(raw=x, force=TRUE, plotPlateArgs = TRUE,imageScreenArgs = list(zrange=c( -4, 8), ar=1),
+                 map=TRUE, outdir=outdir, mainScriptFile=mainScriptFile)
+     if (interactive()) browseURL(file.path(outdir,'index.html'))
+     if (normalize)
+     {
+         outdir <- file.path(tempdir(),platelist,'norm')
+         writeReport(raw=x, normalized=xn, scored=xsc, force=TRUE, plotPlateArgs = TRUE,
+                     imageScreenArgs = list(zrange=c( -4, 8), ar=1), map=TRUE, outdir=outdir,
+                     mainScriptFile=mainScriptFile)
+         if (interactive()) browseURL(file.path(outdir,'index.html'))
+     }
+ }
> 
> ######
> ## 2 plates, 2 replicates, 1 channel
> testPlatelist('platelist221.txt')
cellHTS2 is busy creating HTML pages for 'test'. 
Found raw data.
State:
configured=TRUE, annotated=FALSE

0% done (step 1 of 6)
33% done (step 2 of 6)
38% done (step 3 of 6)
42% done (step 3 of 6)
52% done (step 4 of 6)
88% done (step 5 of 6)
100% done (step 5 of 6)
100% done (step 5 of 6)
100% done (step 6 of 6)
Report was successfully generated in folder D:\biocbuild\bbs-3.15-bioc\tmpdir\Rtmp0CPR56/platelist221.txt/raw/index.html
cellHTS2 is busy creating HTML pages for 'test'. 
Found raw, normalized and scored data.
State:
configured=TRUE, annotated=FALSE

0% done (step 1 of 8)
17% done (step 2 of 8)
19% done (step 3 of 8)
22% done (step 3 of 8)
27% done (step 4 of 8)
46% done (step 5 of 8)
92% done (step 6 of 8)
94% done (step 7 of 8)
100% done (step 8 of 8)
Report was successfully generated in folder D:\biocbuild\bbs-3.15-bioc\tmpdir\Rtmp0CPR56/platelist221.txt/norm/index.html
Warning messages:
1: The plotPlateArgs argument is deprecated. Please use the settings infrastructure as explained in '?setSettings'. 
2: The imageScreenArgs argument is deprecated. Please use the settings infrastructure as explained in '?setSettings'. 
3: The plotPlateArgs argument is deprecated. Please use the settings infrastructure as explained in '?setSettings'. 
4: The imageScreenArgs argument is deprecated. Please use the settings infrastructure as explained in '?setSettings'. 
5: In sprintf("Left: raw, right: normalized", r) :
  one argument not used by format 'Left: raw, right: normalized'
6: In sprintf("Left: raw, right: normalized", r) :
  one argument not used by format 'Left: raw, right: normalized'
> 
> ######
> ## 2 plates, 1 replicate, 2 channels
> testPlatelist('platelist212.txt', normalize=FALSE)
cellHTS2 is busy creating HTML pages for 'test'. 
Found raw data.
State:
configured=TRUE, annotated=FALSE

0% done (step 1 of 6)
33% done (step 2 of 6)
38% done (step 3 of 6)
42% done (step 3 of 6)
52% done (step 4 of 6)
88% done (step 5 of 6)
100% done (step 5 of 6)
100% done (step 5 of 6)
100% done (step 6 of 6)
Report was successfully generated in folder D:\biocbuild\bbs-3.15-bioc\tmpdir\Rtmp0CPR56/platelist212.txt/raw/index.html
Warning messages:
1: The plotPlateArgs argument is deprecated. Please use the settings infrastructure as explained in '?setSettings'. 
2: The imageScreenArgs argument is deprecated. Please use the settings infrastructure as explained in '?setSettings'. 
> 
> ######
> ## 2 plates, 1 replicate, 3 channels
> testPlatelist('platelist213.txt', normalize=FALSE)
cellHTS2 is busy creating HTML pages for 'test'. 
Found raw data.
State:
configured=TRUE, annotated=FALSE

0% done (step 1 of 6)
26% done (step 2 of 6)
31% done (step 3 of 6)
37% done (step 3 of 6)
48% done (step 4 of 6)
91% done (step 5 of 6)
100% done (step 5 of 6)
100% done (step 5 of 6)
100% done (step 6 of 6)
Report was successfully generated in folder D:\biocbuild\bbs-3.15-bioc\tmpdir\Rtmp0CPR56/platelist213.txt/raw/index.html
Warning messages:
1: The plotPlateArgs argument is deprecated. Please use the settings infrastructure as explained in '?setSettings'. 
2: The imageScreenArgs argument is deprecated. Please use the settings infrastructure as explained in '?setSettings'. 
> 
> ######
> ## 2 plates, 2 replicates, 2 channels
> testPlatelist('platelist222.txt', normalize=FALSE)
cellHTS2 is busy creating HTML pages for 'test'. 
Found raw data.
State:
configured=TRUE, annotated=FALSE

0% done (step 1 of 6)
21% done (step 2 of 6)
27% done (step 3 of 6)
33% done (step 3 of 6)
46% done (step 4 of 6)
92% done (step 5 of 6)
100% done (step 5 of 6)
100% done (step 5 of 6)
100% done (step 6 of 6)
Report was successfully generated in folder D:\biocbuild\bbs-3.15-bioc\tmpdir\Rtmp0CPR56/platelist222.txt/raw/index.html
Warning messages:
1: The plotPlateArgs argument is deprecated. Please use the settings infrastructure as explained in '?setSettings'. 
2: The imageScreenArgs argument is deprecated. Please use the settings infrastructure as explained in '?setSettings'. 
> 
> ######
> ## 2 plates, 1 replicates, 1 channel
> testPlatelist('platelist211.txt')
cellHTS2 is busy creating HTML pages for 'test'. 
Found raw data.
State:
configured=TRUE, annotated=FALSE

0% done (step 1 of 6)
46% done (step 2 of 6)
49% done (step 3 of 6)
52% done (step 3 of 6)
59% done (step 4 of 6)
84% done (step 5 of 6)
100% done (step 5 of 6)
100% done (step 5 of 6)
100% done (step 6 of 6)
Report was successfully generated in folder D:\biocbuild\bbs-3.15-bioc\tmpdir\Rtmp0CPR56/platelist211.txt/raw/index.html
cellHTS2 is busy creating HTML pages for 'test'. 
Found raw, normalized and scored data.
State:
configured=TRUE, annotated=FALSE

0% done (step 1 of 8)
28% done (step 2 of 8)
30% done (step 3 of 8)
31% done (step 3 of 8)
36% done (step 4 of 8)
51% done (step 5 of 8)
88% done (step 6 of 8)
90% done (step 7 of 8)
100% done (step 8 of 8)
Report was successfully generated in folder D:\biocbuild\bbs-3.15-bioc\tmpdir\Rtmp0CPR56/platelist211.txt/norm/index.html
Warning messages:
1: The plotPlateArgs argument is deprecated. Please use the settings infrastructure as explained in '?setSettings'. 
2: The imageScreenArgs argument is deprecated. Please use the settings infrastructure as explained in '?setSettings'. 
3: The plotPlateArgs argument is deprecated. Please use the settings infrastructure as explained in '?setSettings'. 
4: The imageScreenArgs argument is deprecated. Please use the settings infrastructure as explained in '?setSettings'. 
5: In sprintf("Left: raw, right: normalized", r) :
  one argument not used by format 'Left: raw, right: normalized'
> 
> ######
> ## 2 plates, 3 replicates, 3 channels
> testPlatelist('platelist233.txt', normalize=FALSE)
cellHTS2 is busy creating HTML pages for 'test'. 
Found raw data.
State:
configured=TRUE, annotated=FALSE

0% done (step 1 of 6)
11% done (step 2 of 6)
18% done (step 3 of 6)
25% done (step 3 of 6)
40% done (step 4 of 6)
96% done (step 5 of 6)
100% done (step 5 of 6)
100% done (step 5 of 6)
100% done (step 6 of 6)
Report was successfully generated in folder D:\biocbuild\bbs-3.15-bioc\tmpdir\Rtmp0CPR56/platelist233.txt/raw/index.html
Warning messages:
1: The plotPlateArgs argument is deprecated. Please use the settings infrastructure as explained in '?setSettings'. 
2: The imageScreenArgs argument is deprecated. Please use the settings infrastructure as explained in '?setSettings'. 
> 
> proc.time()
   user  system elapsed 
  23.70    2.87   26.79 

Example timings

cellHTS2.Rcheck/cellHTS2-Ex.timings

nameusersystemelapsed
Bscore2.020.042.06
ROC-class0.200.030.24
ROC0.750.020.77
annotate0.590.000.59
bdgpbiomart0.130.020.14
buildCellHTS20.170.000.17
cellHTS-class0.470.000.47
configurationAsScreenPlot1.580.011.60
configure0.460.000.47
convertOldCellHTS0.400.080.46
convertWellCoordinates000
data-KcViab0.070.020.10
data-KcViabSmall0.020.000.01
data-dualCh0.010.000.02
data-oldKcViabSmall000
getDynamicRange0.450.000.46
getEnVisionRawData0.020.000.04
getMeasureRepAgreement0.390.000.40
getTopTable0.840.000.84
getZfactor0.180.010.19
imageScreen0.590.020.61
normalizePlates0.670.010.68
oneRowPerId0.020.000.02
plotSpatialEffects0.950.000.95
readHTAnalystData0.390.020.41
readPlateList0.310.000.36
rsa0.470.000.47
scoreReplicates0.720.000.72
scores2calls0.890.030.92
setSettings000
spatialNormalization101
summarizeChannels1.040.001.05
summarizeReplicates0.490.000.48
templateDescriptionFile000
updateCellHTS0.040.020.06
write.tabdel0.040.020.05
writeReport000
writeTab0.030.000.03