Name | Last modified | Size | Description | |
---|---|---|---|---|
Parent Directory | - | |||
buildbin-out.txt | 29-Mar-2024 00:37 | 519K | ||
buildbin-summary.dcf | 29-Mar-2024 00:37 | 504 | ||
buildsrc-out.txt | 29-Mar-2024 00:37 | 861 | ||
buildsrc-summary.dcf | 29-Mar-2024 00:37 | 445 | ||
checksrc-out.txt | 29-Mar-2024 00:37 | 6.1K | ||
checksrc-summary.dcf | 29-Mar-2024 00:37 | 443 | ||
install-out.txt | 29-Mar-2024 00:37 | 519K | ||
install-summary.dcf | 29-Mar-2024 00:37 | 265 | ||