Index of /checkResults/devel/bioc-LATEST/ccfindR/raw-results/merida1
Name
Last modified
Size
Description
Parent Directory
-
buildsrc-out.txt
02-May-2024 00:39
905
buildsrc-summary.dcf
02-May-2024 00:39
342
install-out.txt
02-May-2024 00:39
692
install-summary.dcf
02-May-2024 00:39
271