Index of /checkResults/devel/bioc-LATEST/casper/raw-results/merida1
Name
Last modified
Size
Description
Parent Directory
-
buildsrc-summary.dcf
11-May-2024 00:37
342
buildsrc-out.txt
11-May-2024 00:37
5.6K
install-summary.dcf
11-May-2024 00:37
268
install-out.txt
11-May-2024 00:37
8.1K