Index of /checkResults/devel/bioc-LATEST/casper/raw-results/lconway
Name
Last modified
Size
Description
Parent Directory
-
install-out.txt
27-Jul-2024 00:40
8.1K
install-summary.dcf
27-Jul-2024 00:40
267
buildsrc-summary.dcf
27-Jul-2024 00:40
341
buildsrc-out.txt
27-Jul-2024 00:40
5.6K