Index of /checkResults/devel/bioc-LATEST/casper/raw-results/lconway
Name
Last modified
Size
Description
Parent Directory
-
buildsrc-out.txt
29-Mar-2024 00:38
5.6K
buildsrc-summary.dcf
29-Mar-2024 00:38
341
install-out.txt
29-Mar-2024 00:38
8.3K
install-summary.dcf
29-Mar-2024 00:38
267