Name | Last modified | Size | Description | |
---|---|---|---|---|
Parent Directory | - | |||
install-out.txt | 07-Jul-2024 00:44 | 5.6K | ||
install-summary.dcf | 07-Jul-2024 00:44 | 245 | ||
buildsrc-summary.dcf | 09-Jul-2024 00:44 | 403 | ||
buildsrc-out.txt | 09-Jul-2024 00:44 | 883 | ||
checksrc-out.txt | 09-Jul-2024 00:44 | 4.8K | ||
checksrc-summary.dcf | 09-Jul-2024 00:44 | 407 | ||