Index of /checkResults/devel/bioc-LATEST/casper/raw-results/kjohnson3
Name
Last modified
Size
Description
Parent Directory
-
buildsrc-out.txt
27-Jul-2024 00:42
5.7K
buildsrc-summary.dcf
27-Jul-2024 00:42
341
install-out.txt
27-Jul-2024 00:42
8.3K
install-summary.dcf
27-Jul-2024 00:42
267