Index of /checkResults/devel/bioc-LATEST/casper/raw-results/kjohnson1
Name
Last modified
Size
Description
Parent Directory
-
buildsrc-summary.dcf
12-Jun-2024 04:42
341
buildsrc-out.txt
12-Jun-2024 04:42
5.6K
install-out.txt
12-Jun-2024 04:42
8.3K
install-summary.dcf
12-Jun-2024 04:42
267