Name | Last modified | Size | Description | |
---|---|---|---|---|
Parent Directory | - | |||
buildsrc-out.txt | 13-Jul-2024 01:29 | 900 | ||
buildsrc-summary.dcf | 13-Jul-2024 01:29 | 427 | ||
checksrc-out.txt | 13-Jul-2024 01:29 | 3.5K | ||
checksrc-summary.dcf | 13-Jul-2024 01:29 | 420 | ||
install-out.txt | 13-Jul-2024 01:29 | 966 | ||
install-summary.dcf | 13-Jul-2024 01:29 | 262 | ||