Back to Multiple platform build/check report for BioC 3.18:   simplified   long
AB[C]DEFGHIJKLMNOPQRSTUVWXYZ

This page was generated on 2023-09-30 11:39:46 -0400 (Sat, 30 Sep 2023).

HostnameOSArch (*)R versionInstalled pkgs
nebbiolo2Linux (Ubuntu 22.04.2 LTS)x86_644.3.1 (2023-06-16) -- "Beagle Scouts" 4660
palomino4Windows Server 2022 Datacenterx644.3.1 (2023-06-16 ucrt) -- "Beagle Scouts" 4396
lconwaymacOS 12.6.5 Montereyx86_644.3.1 Patched (2023-06-17 r84564) -- "Beagle Scouts" 4416
kunpeng2Linux (openEuler 22.03 LTS-SP1)aarch644.3.1 (2023-06-16) -- "Beagle Scouts" 4401
Click on any hostname to see more info about the system (e.g. compilers)      (*) as reported by 'uname -p', except on Windows and Mac OS X

Package 262/2233HostnameOS / ArchINSTALLBUILDCHECKBUILD BIN
canceR 1.35.0  (landing page)
Karim Mezhoud
Snapshot Date: 2023-09-29 14:05:07 -0400 (Fri, 29 Sep 2023)
git_url: https://git.bioconductor.org/packages/canceR
git_branch: devel
git_last_commit: ab10002
git_last_commit_date: 2023-04-25 10:38:02 -0400 (Tue, 25 Apr 2023)
nebbiolo2Linux (Ubuntu 22.04.2 LTS) / x86_64  OK    OK    OK  UNNEEDED, same version is already published
palomino4Windows Server 2022 Datacenter / x64  OK    OK    OK    OK  UNNEEDED, same version is already published
lconwaymacOS 12.6.5 Monterey / x86_64  OK    OK    OK    OK  UNNEEDED, same version is already published
kunpeng2Linux (openEuler 22.03 LTS-SP1) / aarch64  OK    OK    OK  

CHECK results for canceR on kunpeng2


To the developers/maintainers of the canceR package:
- Allow up to 24 hours (and sometimes 48 hours) for your latest push to git@git.bioconductor.org:packages/canceR.git to reflect on this report. See Troubleshooting Build Report for more information.
- Use the following Renviron settings to reproduce errors and warnings.
- If 'R CMD check' started to fail recently on the Linux builder(s) over a missing dependency, add the missing dependency to 'Suggests:' in your DESCRIPTION file. See Renviron.bioc for more information.
- See Martin Grigorov's blog post for how to debug Linux ARM64 related issues on a x86_64 host.

raw results


Summary

Package: canceR
Version: 1.35.0
Command: /home/biocbuild/R/R-4.3.1/bin/R CMD check --install=check:canceR.install-out.txt --library=/home/biocbuild/R/R-4.3.1/site-library --timings canceR_1.35.0.tar.gz
StartedAt: 2023-09-30 02:35:10 -0000 (Sat, 30 Sep 2023)
EndedAt: 2023-09-30 02:40:32 -0000 (Sat, 30 Sep 2023)
EllapsedTime: 322.5 seconds
RetCode: 0
Status:   OK  
CheckDir: canceR.Rcheck
Warnings: 0

Command output

##############################################################################
##############################################################################
###
### Running command:
###
###   /home/biocbuild/R/R-4.3.1/bin/R CMD check --install=check:canceR.install-out.txt --library=/home/biocbuild/R/R-4.3.1/site-library --timings canceR_1.35.0.tar.gz
###
##############################################################################
##############################################################################


* using log directory ‘/home/biocbuild/bbs-3.18-bioc/meat/canceR.Rcheck’
* using R version 4.3.1 (2023-06-16)
* using platform: aarch64-unknown-linux-gnu (64-bit)
* R was compiled by
    gcc (GCC) 10.3.1
    GNU Fortran (GCC) 10.3.1
* running under: openEuler 22.03 (LTS-SP1)
* using session charset: UTF-8
* checking for file ‘canceR/DESCRIPTION’ ... OK
* checking extension type ... Package
* this is package ‘canceR’ version ‘1.35.0’
* package encoding: UTF-8
* checking package namespace information ... OK
* checking package dependencies ... OK
* checking if this is a source package ... OK
* checking if there is a namespace ... OK
* checking for hidden files and directories ... OK
* checking for portable file names ... OK
* checking for sufficient/correct file permissions ... OK
* checking whether package ‘canceR’ can be installed ... OK
* checking installed package size ... OK
* checking package directory ... OK
* checking ‘build’ directory ... OK
* checking DESCRIPTION meta-information ... OK
* checking top-level files ... OK
* checking for left-over files ... OK
* checking index information ... OK
* checking package subdirectories ... OK
* checking R files for non-ASCII characters ... OK
* checking R files for syntax errors ... OK
* checking whether the package can be loaded ... OK
* checking whether the package can be loaded with stated dependencies ... OK
* checking whether the package can be unloaded cleanly ... OK
* checking whether the namespace can be loaded with stated dependencies ... OK
* checking whether the namespace can be unloaded cleanly ... OK
* checking loading without being on the library search path ... OK
* checking dependencies in R code ... NOTE
Namespace in Imports field not imported from: ‘R.methodsS3’
  All declared Imports should be used.
* checking S3 generic/method consistency ... OK
* checking replacement functions ... OK
* checking foreign function calls ... OK
* checking R code for possible problems ... OK
* checking Rd files ... OK
* checking Rd metadata ... OK
* checking Rd cross-references ... OK
* checking for missing documentation entries ... OK
* checking for code/documentation mismatches ... OK
* checking Rd \usage sections ... NOTE
S3 methods shown with full name in documentation object 'cbind.na':
  ‘cbind.na’

S3 methods shown with full name in documentation object 'rbind.na':
  ‘rbind.na’

The \usage entries for S3 methods should use the \method markup and not
their full name.
See chapter ‘Writing R documentation files’ in the ‘Writing R
Extensions’ manual.
* checking Rd contents ... OK
* checking for unstated dependencies in examples ... OK
* checking files in ‘vignettes’ ... OK
* checking examples ... OK
* checking for unstated dependencies in ‘tests’ ... OK
* checking tests ...
  Running ‘testthat.R’
 OK
* checking for unstated dependencies in vignettes ... OK
* checking package vignettes in ‘inst/doc’ ... OK
* checking running R code from vignettes ...
  ‘canceR.Rmd’ using ‘UTF-8’... OK
 NONE
* checking re-building of vignette outputs ... OK
* checking PDF version of manual ... OK
* DONE

Status: 2 NOTEs
See
  ‘/home/biocbuild/bbs-3.18-bioc/meat/canceR.Rcheck/00check.log’
for details.



Installation output

canceR.Rcheck/00install.out

##############################################################################
##############################################################################
###
### Running command:
###
###   /home/biocbuild/R/R-4.3.1/bin/R CMD INSTALL canceR
###
##############################################################################
##############################################################################


* installing to library ‘/home/biocbuild/R/R-4.3.1/site-library’
* installing *source* package ‘canceR’ ...
** using staged installation
** R
** inst
** byte-compile and prepare package for lazy loading
** help
*** installing help indices
** building package indices
** installing vignettes
** testing if installed package can be loaded from temporary location
** testing if installed package can be loaded from final location
** testing if installed package keeps a record of temporary installation path
* DONE (canceR)

Tests output

canceR.Rcheck/tests/testthat.Rout


R version 4.3.1 (2023-06-16) -- "Beagle Scouts"
Copyright (C) 2023 The R Foundation for Statistical Computing
Platform: aarch64-unknown-linux-gnu (64-bit)

R is free software and comes with ABSOLUTELY NO WARRANTY.
You are welcome to redistribute it under certain conditions.
Type 'license()' or 'licence()' for distribution details.

R is a collaborative project with many contributors.
Type 'contributors()' for more information and
'citation()' on how to cite R or R packages in publications.

Type 'demo()' for some demos, 'help()' for on-line help, or
'help.start()' for an HTML browser interface to help.
Type 'q()' to quit R.

> library(testthat)
> library(canceR)
Loading required package: tcltk

> 
> test_check("canceR")
getCancerStudies...  OK
getCaseLists (1/2) ...  OK
getCaseLists (2/2) ...  OK
getGeneticProfiles (1/2) ...  OK
getGeneticProfiles (2/2) ...  OK
getClinicalData (1/1) ...  OK
getProfileData (1/6) ...  OK
getProfileData (2/6) ...  OK
getProfileData (3/6) ...  OK
getProfileData (4/6) ...  OK
getProfileData (5/6) ...  OK
getProfileData (6/6) ...  OK
[ FAIL 0 | WARN 0 | SKIP 1 | PASS 0 ]

══ Skipped tests (1) ═══════════════════════════════════════════════════════════
• empty test (1): 'test_funs.R:8:1'

[ FAIL 0 | WARN 0 | SKIP 1 | PASS 0 ]
> 
> proc.time()
   user  system elapsed 
 13.327   1.149  18.535 

Example timings

canceR.Rcheck/canceR-Ex.timings

nameusersystemelapsed
GSEA.Analyze.Sets000
GSEA.ConsPlot000
GSEA.EnrichmentScore000
GSEA.EnrichmentScore2000
GSEA.Gct2Frame0.0010.0000.000
GSEA.Gct2Frame2000
GSEA.GeneRanking000
GSEA.HeatMapPlot000
GSEA.HeatMapPlot2000
GSEA.NormalizeCols0.0010.0000.003
GSEA.NormalizeRows000
GSEA0.0000.0000.001
GSEA.ReadClsFile0.0010.0010.001
GSEA.Res2Frame0.0010.0000.001
GSEA.Threshold0.0010.0000.001
GSEA.VarFilter000
GSEA.write.gct000
Match_GeneList_MSigDB0.0000.0000.001
OLD.GSEA.EnrichmentScore0.0010.0000.000
Run.GSEA0.0010.0000.000
about000
canceR000
canceR_Issue000
canceR_Vignette000
cbind.na0.0000.0000.001
dialogGeneClassifier0.0010.0000.001
dialogMetOption0.0010.0000.000
dialogMut0.0010.0000.000
dialogOptionCircos0.0000.0000.001
dialogOptionGSEAlm000
dialogOptionPhenoTest0.0010.0000.001
dialogPlotOption_SkinCor000
dialogSamplingGSEA0.0010.0000.001
dialogSelectFiles_GSEA0.0010.0000.001
dialogSpecificMut0.0010.0000.001
dialogSummary_GSEA0.0000.0000.001
dialoggetGeneListMSigDB000
displayInTable000
getCases000
getCasesGenProfs0.0000.0010.002
getCircos0.0000.0000.001
getClinicData_MultipleCases0.0000.0000.001
getClinicalDataMatrix0.0000.0000.001
getCor_ExpCNAMet0.0000.0000.001
getGCTCLSExample0.0000.0000.001
getGCT_CLSfiles0.0000.0000.001
getGSEAlm_Diseases0.0000.0000.001
getGSEAlm_Variables000
getGenProfs0.0000.0010.000
getGeneList000
getGeneListExample000
getGeneListFromMSigDB0.0000.0010.001
getGenesClassifier000
getGenesTree_MultipleCases0.0000.0010.000
getGenesTree_SingleCase0.0000.0000.001
getInTable000
getListProfData000
getMSigDB000
getMSigDBExample0.0000.0010.000
getMSigDBfile0.0000.0010.000
getMegaProfData0.0000.0010.001
getMetDataMultipleGenes0.0000.0010.001
getMutData0.0000.0010.000
getPhenoTest0.0000.0010.000
getProfilesDataMultipleGenes0.0000.0010.000
getProfilesDataSingleGene0.0000.0010.000
getSpecificMut0.0000.0010.000
getSummaryGSEA0.0000.0010.000
getSurvival000
getTextWin000
geteSet000
modalDialog000
myGlobalEnv000
plotModel0.0010.0000.000
plot_1Gene_2GenProfs0.0010.0000.001
plot_2Genes_1GenProf0.0010.0000.001
rbind.na000
setWorkspace0.0000.0000.001
testCheckedCaseGenProf0.0000.0000.001