Back to Multiple platform build/check report for BioC 3.15
AB[C]DEFGHIJKLMNOPQRSTUVWXYZ

This page was generated on 2022-01-18 11:07:04 -0500 (Tue, 18 Jan 2022).

HostnameOSArch (*)R versionInstalled pkgs
nebbiolo1Linux (Ubuntu 20.04.4 LTS)x86_64R Under development (unstable) (2022-01-05 r81451) -- "Unsuffered Consequences" 4161
riesling1Windows Server 2019 Standardx64R Under development (unstable) (2021-11-21 r81221) -- "Unsuffered Consequences" 4056
palomino3Windows Server 2022 Datacenterx64R Under development (unstable) (2021-12-21 r81400 ucrt) -- "Unsuffered Consequences" 3998
merida1macOS 10.14.6 Mojavex86_64R Under development (unstable) (2022-01-05 r81451) -- "Unsuffered Consequences" 4115
Click on any hostname to see more info about the system (e.g. compilers)      (*) as reported by 'uname -p', except on Windows and Mac OS X

INSTALL results for cTRAP on riesling1


To the developers/maintainers of the cTRAP package:
- Please allow up to 24 hours (and sometimes 48 hours) for your latest push to git@git.bioconductor.org:packages/cTRAP.git to
reflect on this report. See How and When does the builder pull? When will my changes propagate? here for more information.
- Make sure to use the following settings in order to reproduce any error or warning you see on this page.

raw results

Package 431/2074HostnameOS / ArchINSTALLBUILDCHECKBUILD BIN
cTRAP 1.13.0  (landing page)
Nuno Saraiva-Agostinho
Snapshot Date: 2022-01-17 13:55:17 -0500 (Mon, 17 Jan 2022)
git_url: https://git.bioconductor.org/packages/cTRAP
git_branch: master
git_last_commit: df90b00
git_last_commit_date: 2021-10-26 12:47:45 -0500 (Tue, 26 Oct 2021)
nebbiolo1Linux (Ubuntu 20.04.4 LTS) / x86_64  OK    OK    OK  UNNEEDED, same version is already published
riesling1Windows Server 2019 Standard / x64  OK    OK    WARNINGS    OK  
palomino3Windows Server 2022 Datacenter / x64  OK    OK    WARNINGS    OK  NO, package depends on 'AnnotationDbi' which is not available
merida1macOS 10.14.6 Mojave / x86_64  OK    OK    OK    OK  NO, package depends on 'fgsea' which is not available

Summary

Package: cTRAP
Version: 1.13.0
Command: D:\biocbuild\bbs-3.15-bioc\R\bin\R.exe CMD INSTALL cTRAP
StartedAt: 2022-01-17 16:00:13 -0500 (Mon, 17 Jan 2022)
EndedAt: 2022-01-17 16:01:13 -0500 (Mon, 17 Jan 2022)
EllapsedTime: 59.7 seconds
RetCode: 0
Status:   OK  

Command output

##############################################################################
##############################################################################
###
### Running command:
###
###   D:\biocbuild\bbs-3.15-bioc\R\bin\R.exe CMD INSTALL cTRAP
###
##############################################################################
##############################################################################


* installing to library 'D:/biocbuild/bbs-3.15-bioc/R/library'
* installing *source* package 'cTRAP' ...
** using staged installation
** R
** data
*** moving datasets to lazyload DB
** inst
** byte-compile and prepare package for lazy loading
** help
*** installing help indices
  converting help for package 'cTRAP'
    finding HTML links ... done
    ENCODEmetadata                          html  
    GCT-class                               html  
    HTMLfast                                html  
    analyseDrugSetEnrichment                html  
    as.table.referenceComparison            html  
    cTRAP                                   html  
    calculateCellLineMean                   html  
    calculateEvenlyDistributedBins          html  
    checkColnames                           html  
    chunkColumns                            html  
    closeOpenHandles                        html  
    cmapMetadata                            html  
    cmapPerturbationsCompounds              html  
    cmapPerturbationsKD                     html  
    compareQuantile                         html  
    compareWithAllMethods                   html  
    convertENSEMBLtoGeneSymbols             html  
    convertGeneIdentifiers                  html  
    counts                                  html  
    diffExprStat                            html  
    dimnames.expressionDrugSensitivityAssociation
                                            html  
    dot-plotBubbles                         html  
    dot-prepareNavPage                      html  
    dot-traceInList                         html  
    downloadENCODEknockdownMetadata         html  
    downloadIfNotFound                      html  
    filterCMapMetadata                      html  
    findIntersectingCompounds               html  
    fix.datatypes                           html  
    getCMapConditions                       html  
    getCMapPerturbationTypes                html  
    getENCODEcontrols                       html  
    launchCMapDataLoader                    html  
    launchDiffExprLoader                    html  
    launchDrugSetEnrichmentAnalyser         html  
    launchMetadataViewer                    html  
    launchResultPlotter                     html  
    listExpressionDrugSensitivityAssociation
                                            html  
    loadCMapData                            html  
    loadCMapZscores                         html  
    loadCTRPgeneExpression                  html  
    loadDrugDescriptors                     html  
    loadENCODEsample                        html  
    loadENCODEsamples                       html  
    loadExpressionDrugSensitivityAssociation
                                            html  
    loadNCI60drugSensitivity                html  
    matchStatsWithDrugSetsID                html  
    parseCMapID                             html  
    performDifferentialExpression           html  
    performGSEA                             html  
    plot.perturbationChanges                html  
    plot.referenceComparison                html  
    plotDrugSetEnrichment                   html  
    plotESplot                              html  
    plotGSEA                                html  
    plotMetricDistribution                  html  
    plotSingleCorr                          html  
    plotTargetingDrugsVSsimilarPerturbations
                                            html  
    predictTargetingDrugs                   html  
    prepareCMapPerturbations                html  
    prepareDrugSets                         html  
    prepareENCODEgeneExpression             html  
    prepareExpressionDrugSensitivityAssociation
                                            html  
    prepareGSEAgenesets                     html  
    prepareSetsCompoundInfo                 html  
    prepareStatsCompoundInfo                html  
    prepareWordBreak                        html  
    print.similarPerturbations              html  
    processByChunks                         html  
    processIds                              html  
    rankAgainstReference                    html  
    rankColumns                             html  
    rankSimilarPerturbations                html  
    readGctxIds                             html  
    readGctxMeta                            html  
    stripStr                                html  
    subsetData                              html  
    subsetDim                               html  
    subsetToIds                             html  
** building package indices
** installing vignettes
** testing if installed package can be loaded from temporary location
** testing if installed package can be loaded from final location
** testing if installed package keeps a record of temporary installation path
* DONE (cTRAP)
Making 'packages.html' ...Warning in packageDescription(i, lib.loc = lib, fields = "Title", encoding = "UTF-8") :
  DESCRIPTION file of package 'MetID' is missing or broken
 done