Back to Multiple platform build/check report for BioC 3.17:   simplified   long
AB[C]DEFGHIJKLMNOPQRSTUVWXYZ

This page was generated on 2023-03-21 11:05:11 -0400 (Tue, 21 Mar 2023).

HostnameOSArch (*)R versionInstalled pkgs
nebbiolo1Linux (Ubuntu 22.04.1 LTS)x86_64R Under development (unstable) (2023-03-16 r83996) -- "Unsuffered Consequences" 4305
palomino3Windows Server 2022 Datacenterx64R Under development (unstable) (2023-03-15 r83984 ucrt) -- "Unsuffered Consequences" 4287
merida1macOS 10.14.6 Mojavex86_64R Under development (unstable) (2023-03-16 r83985) -- "Unsuffered Consequences" 4286
Click on any hostname to see more info about the system (e.g. compilers)      (*) as reported by 'uname -p', except on Windows and Mac OS X

CHECK results for cTRAP on nebbiolo1


To the developers/maintainers of the cTRAP package:
- Please allow up to 24 hours (and sometimes 48 hours) for your latest push to git@git.bioconductor.org:packages/cTRAP.git to
reflect on this report. See How and When does the builder pull? When will my changes propagate? for more information.
- Make sure to use the following settings in order to reproduce any error or warning you see on this page.

raw results

Package 461/2189HostnameOS / ArchINSTALLBUILDCHECKBUILD BIN
cTRAP 1.17.0  (landing page)
Nuno Saraiva-Agostinho
Snapshot Date: 2023-03-20 14:00:22 -0400 (Mon, 20 Mar 2023)
git_url: https://git.bioconductor.org/packages/cTRAP
git_branch: master
git_last_commit: abdf502
git_last_commit_date: 2022-11-01 11:18:44 -0400 (Tue, 01 Nov 2022)
nebbiolo1Linux (Ubuntu 22.04.1 LTS) / x86_64  OK    OK    OK  UNNEEDED, same version is already published
palomino3Windows Server 2022 Datacenter / x64  OK    OK    WARNINGS    OK  UNNEEDED, same version is already published
merida1macOS 10.14.6 Mojave / x86_64  OK    OK    OK    OK  UNNEEDED, same version is already published

Summary

Package: cTRAP
Version: 1.17.0
Command: /home/biocbuild/bbs-3.17-bioc/R/bin/R CMD check --install=check:cTRAP.install-out.txt --library=/home/biocbuild/bbs-3.17-bioc/R/site-library --timings cTRAP_1.17.0.tar.gz
StartedAt: 2023-03-20 19:51:09 -0400 (Mon, 20 Mar 2023)
EndedAt: 2023-03-20 20:05:35 -0400 (Mon, 20 Mar 2023)
EllapsedTime: 865.9 seconds
RetCode: 0
Status:   OK  
CheckDir: cTRAP.Rcheck
Warnings: 0

Command output

##############################################################################
##############################################################################
###
### Running command:
###
###   /home/biocbuild/bbs-3.17-bioc/R/bin/R CMD check --install=check:cTRAP.install-out.txt --library=/home/biocbuild/bbs-3.17-bioc/R/site-library --timings cTRAP_1.17.0.tar.gz
###
##############################################################################
##############################################################################


* using log directory ‘/home/biocbuild/bbs-3.17-bioc/meat/cTRAP.Rcheck’
* using R Under development (unstable) (2023-03-16 r83996)
* using platform: x86_64-pc-linux-gnu (64-bit)
* R was compiled by
    gcc (Ubuntu 11.3.0-1ubuntu1~22.04) 11.3.0
    GNU Fortran (Ubuntu 11.3.0-1ubuntu1~22.04) 11.3.0
* running under: Ubuntu 22.04.2 LTS
* using session charset: UTF-8
* checking for file ‘cTRAP/DESCRIPTION’ ... OK
* this is package ‘cTRAP’ version ‘1.17.0’
* package encoding: UTF-8
* checking package namespace information ... OK
* checking package dependencies ... OK
* checking if this is a source package ... OK
* checking if there is a namespace ... OK
* checking for hidden files and directories ... NOTE
Found the following hidden files and directories:
  .devcontainer
These were most likely included in error. See section ‘Package
structure’ in the ‘Writing R Extensions’ manual.
* checking for portable file names ... OK
* checking for sufficient/correct file permissions ... OK
* checking whether package ‘cTRAP’ can be installed ... OK
* checking installed package size ... NOTE
  installed size is  5.1Mb
  sub-directories of 1Mb or more:
    data   4.3Mb
* checking package directory ... OK
* checking DESCRIPTION meta-information ... OK
* checking top-level files ... OK
* checking for left-over files ... OK
* checking index information ... OK
* checking package subdirectories ... OK
* checking R files for non-ASCII characters ... OK
* checking R files for syntax errors ... OK
* checking whether the package can be loaded ... OK
* checking whether the package can be loaded with stated dependencies ... OK
* checking whether the package can be unloaded cleanly ... OK
* checking whether the namespace can be loaded with stated dependencies ... OK
* checking whether the namespace can be unloaded cleanly ... OK
* checking loading without being on the library search path ... OK
* checking dependencies in R code ... OK
* checking S3 generic/method consistency ... OK
* checking replacement functions ... OK
* checking foreign function calls ... OK
* checking R code for possible problems ... NOTE
Found the following possibly unsafe calls:
File ‘cTRAP/R/shinyInterface_session.R’:
  assignInNamespace("dataTablesFilter", dt_mod, "DT")
* checking Rd files ... OK
* checking Rd metadata ... OK
* checking Rd cross-references ... OK
* checking for missing documentation entries ... OK
* checking for code/documentation mismatches ... OK
* checking Rd \usage sections ... OK
* checking Rd contents ... OK
* checking for unstated dependencies in examples ... OK
* checking contents of ‘data’ directory ... OK
* checking data for non-ASCII characters ... NOTE
  Note: found 1 marked UTF-8 string
* checking LazyData ... OK
* checking data for ASCII and uncompressed saves ... OK
* checking R/sysdata.rda ... OK
* checking files in ‘vignettes’ ... OK
* checking examples ... OK
Examples with CPU (user + system) or elapsed time > 5s
                                            user system elapsed
plotDrugSetEnrichment                    172.330  1.321 173.647
convertGeneIdentifiers                    15.061  2.150  18.346
analyseDrugSetEnrichment                  13.207  1.333  75.158
plot.referenceComparison                  13.370  0.491  13.861
plot.perturbationChanges                  12.153  0.406  12.558
prepareDrugSets                            5.869  5.198  11.057
filterCMapMetadata                         6.294  0.512   7.592
plotTargetingDrugsVSsimilarPerturbations   5.579  0.252   5.831
downloadENCODEknockdownMetadata            2.709  0.383  46.965
* checking for unstated dependencies in ‘tests’ ... OK
* checking tests ...
  Running ‘spelling.R’
  Running ‘testthat.R’
 OK
* checking for unstated dependencies in vignettes ... OK
* checking package vignettes in ‘inst/doc’ ... OK
* checking running R code from vignettes ...
  ‘cTRAP.Rmd’ using ‘UTF-8’... OK
 NONE
* checking re-building of vignette outputs ... OK
* checking PDF version of manual ... OK
* DONE

Status: 4 NOTEs
See
  ‘/home/biocbuild/bbs-3.17-bioc/meat/cTRAP.Rcheck/00check.log’
for details.



Installation output

cTRAP.Rcheck/00install.out

##############################################################################
##############################################################################
###
### Running command:
###
###   /home/biocbuild/bbs-3.17-bioc/R/bin/R CMD INSTALL cTRAP
###
##############################################################################
##############################################################################


* installing to library ‘/home/biocbuild/bbs-3.17-bioc/R/site-library’
* installing *source* package ‘cTRAP’ ...
** using staged installation
** R
** data
*** moving datasets to lazyload DB
** inst
** byte-compile and prepare package for lazy loading
** help
*** installing help indices
** building package indices
** installing vignettes
** testing if installed package can be loaded from temporary location
** testing if installed package can be loaded from final location
** testing if installed package keeps a record of temporary installation path
* DONE (cTRAP)

Tests output

cTRAP.Rcheck/tests/spelling.Rout


R Under development (unstable) (2023-03-16 r83996) -- "Unsuffered Consequences"
Copyright (C) 2023 The R Foundation for Statistical Computing
Platform: x86_64-pc-linux-gnu (64-bit)

R is free software and comes with ABSOLUTELY NO WARRANTY.
You are welcome to redistribute it under certain conditions.
Type 'license()' or 'licence()' for distribution details.

R is a collaborative project with many contributors.
Type 'contributors()' for more information and
'citation()' on how to cite R or R packages in publications.

Type 'demo()' for some demos, 'help()' for on-line help, or
'help.start()' for an HTML browser interface to help.
Type 'q()' to quit R.

> if(requireNamespace('spelling', quietly = TRUE))
+   spelling::spell_check_test(vignettes = TRUE, error = FALSE,
+                              skip_on_cran = TRUE)
NULL
> 
> proc.time()
   user  system elapsed 
  0.173   0.022   0.183 

cTRAP.Rcheck/tests/testthat.Rout


R Under development (unstable) (2023-03-16 r83996) -- "Unsuffered Consequences"
Copyright (C) 2023 The R Foundation for Statistical Computing
Platform: x86_64-pc-linux-gnu (64-bit)

R is free software and comes with ABSOLUTELY NO WARRANTY.
You are welcome to redistribute it under certain conditions.
Type 'license()' or 'licence()' for distribution details.

R is a collaborative project with many contributors.
Type 'contributors()' for more information and
'citation()' on how to cite R or R packages in publications.

Type 'demo()' for some demos, 'help()' for on-line help, or
'help.start()' for an HTML browser interface to help.
Type 'q()' to quit R.

> library(testthat)
> library(cTRAP)
> 
> test_check("cTRAP")
trying URL 'https://compbio.imm.medicina.ulisboa.pt/public/cTRAP/expressionDrugSensitivityCorGDSC7.qs'
downloaded 31.6 MB

trying URL 'https://compbio.imm.medicina.ulisboa.pt/public/cTRAP/compound_descriptors_NCI60_2D.qs'
downloaded 2.1 MB

[ FAIL 0 | WARN 2 | SKIP 2 | PASS 244 ]

══ Skipped tests ═══════════════════════════════════════════════════════════════
• On Bioconductor (1)
• empty test (1)

[ FAIL 0 | WARN 2 | SKIP 2 | PASS 244 ]
> 
> proc.time()
   user  system elapsed 
 56.031   5.001 107.422 

Example timings

cTRAP.Rcheck/cTRAP-Ex.timings

nameusersystemelapsed
analyseDrugSetEnrichment13.207 1.33375.158
convertGeneIdentifiers15.061 2.15018.346
downloadENCODEknockdownMetadata 2.709 0.38346.965
filterCMapMetadata6.2940.5127.592
getCMapConditions0.0020.0000.002
getCMapPerturbationTypes000
listExpressionDrugSensitivityAssociation000
loadCMapData3.0710.1202.651
loadCMapZscores2.3110.0161.485
loadDrugDescriptors0.0460.0030.044
loadENCODEsamples000
loadExpressionDrugSensitivityAssociation1.1510.6731.824
parseCMapID0.0000.0000.001
performDifferentialExpression0.0010.0000.001
plot.perturbationChanges12.153 0.40612.558
plot.referenceComparison13.370 0.49113.861
plotDrugSetEnrichment172.330 1.321173.647
plotTargetingDrugsVSsimilarPerturbations5.5790.2525.831
predictTargetingDrugs3.9700.1124.082
prepareCMapPerturbations4.1390.0963.312
prepareDrugSets 5.869 5.19811.057
prepareENCODEgeneExpression0.0000.0000.001
rankSimilarPerturbations1.6920.0521.744