Name | Last modified | Size | Description | |
---|---|---|---|---|
Parent Directory | - | |||
install-summary.dcf | 27-Jul-2024 00:40 | 283 | ||
install-out.txt | 27-Jul-2024 00:40 | 1.0K | ||
checksrc-summary.dcf | 27-Jul-2024 00:40 | 472 | ||
checksrc-out.txt | 27-Jul-2024 00:40 | 3.3K | ||
buildsrc-summary.dcf | 27-Jul-2024 00:40 | 449 | ||
buildsrc-out.txt | 27-Jul-2024 00:40 | 844 | ||
buildbin-summary.dcf | 27-Jul-2024 00:40 | 572 | ||
buildbin-out.txt | 27-Jul-2024 00:40 | 1.2K | ||