Name | Last modified | Size | Description | |
---|---|---|---|---|
Parent Directory | - | |||
checksrc-out.txt | 05-Jul-2024 00:44 | 3.4K | ||
checksrc-summary.dcf | 05-Jul-2024 00:44 | 433 | ||
install-summary.dcf | 06-Jul-2024 00:44 | 263 | ||
install-out.txt | 06-Jul-2024 00:44 | 630 | ||
buildsrc-summary.dcf | 09-Jul-2024 00:44 | 334 | ||
buildsrc-out.txt | 09-Jul-2024 00:44 | 910 | ||