Back to Multiple platform build/check report for BioC 3.15
A[B]CDEFGHIJKLMNOPQRSTUVWXYZ

This page was generated on 2022-01-21 11:07:07 -0500 (Fri, 21 Jan 2022).

HostnameOSArch (*)R versionInstalled pkgs
nebbiolo1Linux (Ubuntu 20.04.4 LTS)x86_64R Under development (unstable) (2022-01-05 r81451) -- "Unsuffered Consequences" 4163
riesling1Windows Server 2019 Standardx64R Under development (unstable) (2021-11-21 r81221) -- "Unsuffered Consequences" 4058
palomino3Windows Server 2022 Datacenterx64R Under development (unstable) (2021-12-21 r81400 ucrt) -- "Unsuffered Consequences" 4000
merida1macOS 10.14.6 Mojavex86_64R Under development (unstable) (2022-01-05 r81451) -- "Unsuffered Consequences" 4117
Click on any hostname to see more info about the system (e.g. compilers)      (*) as reported by 'uname -p', except on Windows and Mac OS X

BUILD BIN results for bsseq on riesling1


To the developers/maintainers of the bsseq package:
- Please allow up to 24 hours (and sometimes 48 hours) for your latest push to git@git.bioconductor.org:packages/bsseq.git to
reflect on this report. See How and When does the builder pull? When will my changes propagate? here for more information.
- Make sure to use the following settings in order to reproduce any error or warning you see on this page.

raw results

Package 218/2075HostnameOS / ArchINSTALLBUILDCHECKBUILD BIN
bsseq 1.31.1  (landing page)
Kasper Daniel Hansen
Snapshot Date: 2022-01-20 13:55:17 -0500 (Thu, 20 Jan 2022)
git_url: https://git.bioconductor.org/packages/bsseq
git_branch: master
git_last_commit: b9e8130
git_last_commit_date: 2021-11-01 21:52:48 -0500 (Mon, 01 Nov 2021)
nebbiolo1Linux (Ubuntu 20.04.4 LTS) / x86_64  OK    OK    OK  UNNEEDED, same version is already published
riesling1Windows Server 2019 Standard / x64  OK    OK    OK    OK  
palomino3Windows Server 2022 Datacenter / x64  OK    OK    OK    OK  NO, package depends on 'BiocGenerics' which is not available
merida1macOS 10.14.6 Mojave / x86_64  OK    OK    OK    OK  UNNEEDED, same version is already published

Summary

Package: bsseq
Version: 1.31.1
Command: rm -rf bsseq.buildbin-libdir && mkdir bsseq.buildbin-libdir && D:\biocbuild\bbs-3.15-bioc\R\bin\R.exe CMD INSTALL --build --library=bsseq.buildbin-libdir bsseq_1.31.1.tar.gz
StartedAt: 2022-01-20 20:43:27 -0500 (Thu, 20 Jan 2022)
EndedAt: 2022-01-20 20:44:41 -0500 (Thu, 20 Jan 2022)
EllapsedTime: 74.0 seconds
RetCode: 0
Status:   OK  
PackageFile: bsseq_1.31.1.zip
PackageFileSize: 3.839 MiB

Command output

##############################################################################
##############################################################################
###
### Running command:
###
###   rm -rf bsseq.buildbin-libdir && mkdir bsseq.buildbin-libdir && D:\biocbuild\bbs-3.15-bioc\R\bin\R.exe CMD INSTALL --build --library=bsseq.buildbin-libdir bsseq_1.31.1.tar.gz
###
##############################################################################
##############################################################################


* installing *source* package 'bsseq' ...
** using staged installation
** libs
"C:/rtools40/mingw64/bin/"g++  -std=gnu++11 -I"D:/biocbuild/bbs-3.15-bioc/R/include" -DNDEBUG  -I'D:/biocbuild/bbs-3.15-bioc/R/library/Rcpp/include' -I'D:/biocbuild/bbs-3.15-bioc/R/library/beachmat/include'   -I"C:/extsoft/include"     -O2 -Wall  -mfpmath=sse -msse2 -mstackrealign -fno-reorder-blocks-and-partition  -c check_M_and_Cov.cpp -o check_M_and_Cov.o
"C:/rtools40/mingw64/bin/"g++  -std=gnu++11 -I"D:/biocbuild/bbs-3.15-bioc/R/include" -DNDEBUG  -I'D:/biocbuild/bbs-3.15-bioc/R/library/Rcpp/include' -I'D:/biocbuild/bbs-3.15-bioc/R/library/beachmat/include'   -I"C:/extsoft/include"     -O2 -Wall  -mfpmath=sse -msse2 -mstackrealign -fno-reorder-blocks-and-partition  -c init.cpp -o init.o
"C:/rtools40/mingw64/bin/"g++  -std=gnu++11 -I"D:/biocbuild/bbs-3.15-bioc/R/include" -DNDEBUG  -I'D:/biocbuild/bbs-3.15-bioc/R/library/Rcpp/include' -I'D:/biocbuild/bbs-3.15-bioc/R/library/beachmat/include'   -I"C:/extsoft/include"     -O2 -Wall  -mfpmath=sse -msse2 -mstackrealign -fno-reorder-blocks-and-partition  -c utils.cpp -o utils.o
C:/rtools40/mingw64/bin/g++ -shared -s -static-libgcc -o bsseq.dll tmp.def check_M_and_Cov.o init.o utils.o -LC:/extsoft/lib/x64 -LC:/extsoft/lib -LD:/biocbuild/bbs-3.15-bioc/R/bin/x64 -lR
installing to D:/biocbuild/bbs-3.15-bioc/meat/bsseq.buildbin-libdir/00LOCK-bsseq/00new/bsseq/libs/x64
** R
** data
** inst
** byte-compile and prepare package for lazy loading
** help
*** installing help indices
  converting help for package 'bsseq'
    finding HTML links ... done
    BS.chr22                                html  
    BSmooth                                 html  
    finding level-2 HTML links ... done

    BSmooth.fstat                           html  
    BSmooth.tstat                           html  
    BSseq-class                             html  
    BSseq                                   html  
    BSseqStat-class                         html  
    BSseqTstat-class                        html  
    FWGRanges-class                         html  
    computeStat                             html  
    data.frame2GRanges                      html  
    dmrFinder                               html  
    findLoci                                html  
    fisherTests                             html  
    getCoverage                             html  
    getMeth                                 html  
    getStats                                html  
    goodnessOfFit                           html  
    hasGRanges-class                        html  
    internals                               html  
    plotRegion                              html  
    read.bismark                            html  
    read.bsmooth                            html  
    read.umtab                              html  
    smoothSds                               html  
** building package indices
** installing vignettes
** testing if installed package can be loaded from temporary location
** testing if installed package can be loaded from final location
** testing if installed package keeps a record of temporary installation path
* MD5 sums
packaged installation of 'bsseq' as bsseq_1.31.1.zip
* DONE (bsseq)