Back to Multiple platform build/check report for BioC 3.15
A[B]CDEFGHIJKLMNOPQRSTUVWXYZ

This page was generated on 2022-01-21 11:07:06 -0500 (Fri, 21 Jan 2022).

HostnameOSArch (*)R versionInstalled pkgs
nebbiolo1Linux (Ubuntu 20.04.4 LTS)x86_64R Under development (unstable) (2022-01-05 r81451) -- "Unsuffered Consequences" 4163
riesling1Windows Server 2019 Standardx64R Under development (unstable) (2021-11-21 r81221) -- "Unsuffered Consequences" 4058
palomino3Windows Server 2022 Datacenterx64R Under development (unstable) (2021-12-21 r81400 ucrt) -- "Unsuffered Consequences" 4000
merida1macOS 10.14.6 Mojavex86_64R Under development (unstable) (2022-01-05 r81451) -- "Unsuffered Consequences" 4117
Click on any hostname to see more info about the system (e.g. compilers)      (*) as reported by 'uname -p', except on Windows and Mac OS X

BUILD BIN results for brendaDb on riesling1


To the developers/maintainers of the brendaDb package:
- Please allow up to 24 hours (and sometimes 48 hours) for your latest push to git@git.bioconductor.org:packages/brendaDb.git to
reflect on this report. See How and When does the builder pull? When will my changes propagate? here for more information.
- Make sure to use the following settings in order to reproduce any error or warning you see on this page.

raw results

Package 212/2075HostnameOS / ArchINSTALLBUILDCHECKBUILD BIN
brendaDb 1.9.0  (landing page)
Yi Zhou
Snapshot Date: 2022-01-20 13:55:17 -0500 (Thu, 20 Jan 2022)
git_url: https://git.bioconductor.org/packages/brendaDb
git_branch: master
git_last_commit: 43ec1f1
git_last_commit_date: 2021-10-26 12:53:39 -0500 (Tue, 26 Oct 2021)
nebbiolo1Linux (Ubuntu 20.04.4 LTS) / x86_64  OK    OK    OK  UNNEEDED, same version is already published
riesling1Windows Server 2019 Standard / x64  OK    OK    OK    OK  
palomino3Windows Server 2022 Datacenter / x64  OK    OK    OK    OK  UNNEEDED, same version is already published
merida1macOS 10.14.6 Mojave / x86_64  OK    OK    OK    OK  UNNEEDED, same version is already published

Summary

Package: brendaDb
Version: 1.9.0
Command: rm -rf brendaDb.buildbin-libdir && mkdir brendaDb.buildbin-libdir && D:\biocbuild\bbs-3.15-bioc\R\bin\R.exe CMD INSTALL --build --library=brendaDb.buildbin-libdir brendaDb_1.9.0.tar.gz
StartedAt: 2022-01-20 20:43:16 -0500 (Thu, 20 Jan 2022)
EndedAt: 2022-01-20 20:44:28 -0500 (Thu, 20 Jan 2022)
EllapsedTime: 72.8 seconds
RetCode: 0
Status:   OK  
PackageFile: brendaDb_1.9.0.zip
PackageFileSize: 1.07 MiB

Command output

##############################################################################
##############################################################################
###
### Running command:
###
###   rm -rf brendaDb.buildbin-libdir && mkdir brendaDb.buildbin-libdir && D:\biocbuild\bbs-3.15-bioc\R\bin\R.exe CMD INSTALL --build --library=brendaDb.buildbin-libdir brendaDb_1.9.0.tar.gz
###
##############################################################################
##############################################################################


* installing *source* package 'brendaDb' ...
** using staged installation
** libs
"C:/rtools40/mingw64/bin/"g++  -std=gnu++11 -I"D:/biocbuild/bbs-3.15-bioc/R/include" -DNDEBUG  -I'D:/biocbuild/bbs-3.15-bioc/R/library/Rcpp/include'   -I"C:/extsoft/include"     -O2 -Wall  -mfpmath=sse -msse2 -mstackrealign -fno-reorder-blocks-and-partition  -c RcppExports.cpp -o RcppExports.o
"C:/rtools40/mingw64/bin/"g++  -std=gnu++11 -I"D:/biocbuild/bbs-3.15-bioc/R/include" -DNDEBUG  -I'D:/biocbuild/bbs-3.15-bioc/R/library/Rcpp/include'   -I"C:/extsoft/include"     -O2 -Wall  -mfpmath=sse -msse2 -mstackrealign -fno-reorder-blocks-and-partition  -c read_brenda.cpp -o read_brenda.o
C:/rtools40/mingw64/bin/g++ -shared -s -static-libgcc -o brendaDb.dll tmp.def RcppExports.o read_brenda.o -LC:/extsoft/lib/x64 -LC:/extsoft/lib -LD:/biocbuild/bbs-3.15-bioc/R/bin/x64 -lR
installing to D:/biocbuild/bbs-3.15-bioc/meat/brendaDb.buildbin-libdir/00LOCK-brendaDb/00new/brendaDb/libs/x64
** R
** data
** inst
** byte-compile and prepare package for lazy loading
** help
*** installing help indices
  converting help for package 'brendaDb'
    finding HTML links ... done
    BiocycPathwayEnzymes                    html  
    BiocycPathwayGenes                      html  
    CleanECNumber                           html  
    ConfigBPCores                           html  
    DownloadBrenda                          html  
    ExtractField                            html  
    ID2Enzyme                               html  
    InitBrendaDeprecatedEntry               html  
    InitBrendaEntry                         html  
    ParseGeneric                            html  
    ParseNoDescription                      html  
    ParseProtein                            html  
    ParseProteinNum                         html  
    ParseReaction                           html  
    ParseRecommendedName                    html  
    ParseReference                          html  
    ParseSystematicName                     html  
    PrettyPrintBrendaEntry                  html  
    PrintTreeHelper                         html  
    QueryBrenda                             html  
    QueryBrendaBase                         html  
    ReadBrenda                              html  
    ReadBrendaFile                          html  
    SelectOrganism                          html  
    SeparateEntries                         html  
    SeparateSubentries                      html  
    ShowFields                              html  
    acronyms                                html  
    brendaDb-package                        html  
    print.brenda.entries                    html  
    print.brenda.entry                      html  
*** copying figures
** building package indices
** installing vignettes
** testing if installed package can be loaded from temporary location
** testing if installed package can be loaded from final location
** testing if installed package keeps a record of temporary installation path
* MD5 sums
packaged installation of 'brendaDb' as brendaDb_1.9.0.zip
* DONE (brendaDb)