Index of /checkResults/devel/bioc-LATEST/brendaDb/raw-results/palomino3

[ICO]NameLast modifiedSizeDescription

[DIR]Parent Directory  -  
[TXT]buildbin-out.txt29-Mar-2024 00:37 2.0K 
[   ]buildbin-summary.dcf29-Mar-2024 00:37 521  
[TXT]buildsrc-out.txt29-Mar-2024 00:37 936  
[   ]buildsrc-summary.dcf29-Mar-2024 00:37 456  
[TXT]checksrc-out.txt29-Mar-2024 00:37 4.8K 
[   ]checksrc-summary.dcf29-Mar-2024 00:37 451  
[TXT]install-out.txt29-Mar-2024 00:37 1.9K 
[   ]install-summary.dcf29-Mar-2024 00:37 270