Index of /checkResults/devel/bioc-LATEST/breakpointR/raw-results/nebbiolo2

[ICO]NameLast modifiedSizeDescription

[DIR]Parent Directory  -  
[TXT]install-out.txt19-Aug-2022 00:05 951  
[   ]install-summary.dcf19-Aug-2022 00:05 267  
[TXT]buildsrc-out.txt19-Aug-2022 00:05 822  
[   ]buildsrc-summary.dcf19-Aug-2022 00:05 429  
[TXT]checksrc-out.txt19-Aug-2022 00:05 3.1K 
[   ]checksrc-summary.dcf19-Aug-2022 00:05 440