Index of /checkResults/devel/bioc-LATEST/breakpointR/raw-results/lconway

[ICO]NameLast modifiedSizeDescription

[DIR]Parent Directory  -  
[   ]install-summary.dcf10-Aug-2022 00:07 277  
[   ]buildsrc-summary.dcf10-Aug-2022 00:07 439  
[   ]checksrc-summary.dcf10-Aug-2022 00:07 460  
[   ]buildbin-summary.dcf10-Aug-2022 00:07 554  
[TXT]buildsrc-out.txt10-Aug-2022 00:07 832  
[TXT]install-out.txt10-Aug-2022 00:07 1.0K 
[TXT]buildbin-out.txt10-Aug-2022 00:07 1.2K 
[TXT]checksrc-out.txt10-Aug-2022 00:07 3.3K