Index of /checkResults/devel/bioc-LATEST/branchpointer/raw-results/palomino4

[ICO]NameLast modifiedSizeDescription

[DIR]Parent Directory  -  
[TXT]buildbin-out.txt02-Jul-2022 00:05 1.2K 
[   ]buildbin-summary.dcf02-Jul-2022 00:05 569  
[TXT]buildsrc-out.txt02-Jul-2022 00:05 966  
[   ]buildsrc-summary.dcf02-Jul-2022 00:05 477  
[TXT]checksrc-out.txt02-Jul-2022 00:05 3.3K 
[   ]checksrc-summary.dcf02-Jul-2022 00:05 474  
[TXT]install-out.txt02-Jul-2022 00:05 1.9K 
[   ]install-summary.dcf02-Jul-2022 00:05 682