Index of /checkResults/devel/bioc-LATEST/bluster/raw-results/palomino4

[ICO]NameLast modifiedSizeDescription

[DIR]Parent Directory  -  
[TXT]buildbin-out.txt16-Aug-2022 00:05 2.3K 
[   ]buildbin-summary.dcf16-Aug-2022 00:05 529  
[TXT]buildsrc-out.txt16-Aug-2022 00:05 870  
[   ]buildsrc-summary.dcf16-Aug-2022 00:05 451  
[TXT]checksrc-out.txt16-Aug-2022 00:05 3.7K 
[   ]checksrc-summary.dcf16-Aug-2022 00:05 448  
[TXT]install-out.txt16-Aug-2022 00:05 2.9K 
[   ]install-summary.dcf16-Aug-2022 00:05 622