![]() | Name | Last modified | Size | Description |
---|---|---|---|---|
![]() | Parent Directory | - | ||
![]() | buildsrc-out.txt | 28-Sep-2023 00:36 | 836 | |
![]() | buildsrc-summary.dcf | 28-Sep-2023 00:36 | 418 | |
![]() | checksrc-out.txt | 28-Sep-2023 00:36 | 3.6K | |
![]() | checksrc-summary.dcf | 28-Sep-2023 00:36 | 414 | |
![]() | install-out.txt | 28-Sep-2023 00:36 | 2.0K | |
![]() | install-summary.dcf | 28-Sep-2023 00:36 | 259 | |