![]() | Name | Last modified | Size | Description |
---|---|---|---|---|
![]() | Parent Directory | - | ||
![]() | buildbin-out.txt | 04-Oct-2023 00:39 | 4.5K | |
![]() | buildbin-summary.dcf | 04-Oct-2023 00:39 | 530 | |
![]() | buildsrc-out.txt | 04-Oct-2023 00:39 | 846 | |
![]() | buildsrc-summary.dcf | 04-Oct-2023 00:39 | 428 | |
![]() | checksrc-out.txt | 04-Oct-2023 00:39 | 3.7K | |
![]() | checksrc-summary.dcf | 04-Oct-2023 00:39 | 444 | |
![]() | install-out.txt | 04-Oct-2023 00:39 | 2.5K | |
![]() | install-summary.dcf | 04-Oct-2023 00:39 | 269 | |