Index of /checkResults/devel/bioc-LATEST/bluster/raw-results

[ICO]NameLast modifiedSizeDescription

[DIR]Parent Directory  -  
[DIR]kunpeng2/28-Sep-2023 00:40 -  
[DIR]lconway/28-Sep-2023 00:38 -  
[DIR]nebbiolo2/28-Sep-2023 00:36 -  
[DIR]palomino4/28-Sep-2023 00:37 -  
[   ]info.dcf28-Sep-2023 00:40 282