Name | Last modified | Size | Description | |
---|---|---|---|---|
Parent Directory | - | |||
buildbin-out.txt | 28-Jul-2024 00:39 | 2.0K | ||
buildbin-summary.dcf | 28-Jul-2024 00:39 | 503 | ||
buildsrc-out.txt | 28-Jul-2024 00:39 | 894 | ||
buildsrc-summary.dcf | 28-Jul-2024 00:39 | 445 | ||
checksrc-out.txt | 28-Jul-2024 00:39 | 8.0K | ||
checksrc-summary.dcf | 28-Jul-2024 00:39 | 439 | ||
install-out.txt | 28-Jul-2024 00:39 | 1.9K | ||
install-summary.dcf | 28-Jul-2024 00:39 | 264 | ||