Name | Last modified | Size | Description | |
---|---|---|---|---|
Parent Directory | - | |||
buildbin-out.txt | 23-May-2024 00:36 | 2.0K | ||
buildbin-summary.dcf | 23-May-2024 00:36 | 503 | ||
buildsrc-out.txt | 12-Jun-2024 04:40 | 3.7K | ||
buildsrc-summary.dcf | 12-Jun-2024 04:40 | 363 | ||
checksrc-out.txt | 23-May-2024 00:36 | 8.1K | ||
checksrc-summary.dcf | 23-May-2024 00:36 | 439 | ||
install-out.txt | 12-Jun-2024 04:40 | 1.9K | ||
install-summary.dcf | 12-Jun-2024 04:40 | 264 | ||