Name | Last modified | Size | Description | |
---|---|---|---|---|
Parent Directory | - | |||
checksrc-out.txt | 28-Jul-2024 00:40 | 7.6K | ||
buildbin-out.txt | 28-Jul-2024 00:40 | 4.1K | ||
install-out.txt | 28-Jul-2024 00:40 | 2.1K | ||
buildsrc-out.txt | 28-Jul-2024 00:40 | 870 | ||
buildbin-summary.dcf | 28-Jul-2024 00:40 | 518 | ||
checksrc-summary.dcf | 28-Jul-2024 00:40 | 436 | ||
buildsrc-summary.dcf | 28-Jul-2024 00:40 | 422 | ||
install-summary.dcf | 28-Jul-2024 00:40 | 265 | ||