Index of /checkResults/devel/bioc-LATEST/blima/raw-results/kjohnson1
Name
Last modified
Size
Description
Parent Directory
-
install-summary.dcf
12-Jun-2024 04:42
265
install-out.txt
12-Jun-2024 04:42
2.1K
buildsrc-out.txt
12-Jun-2024 04:42
1.5K
buildsrc-summary.dcf
12-Jun-2024 04:42
340