Index of /checkResults/devel/bioc-LATEST/biovizBase/raw-results

[ICO]NameLast modifiedSizeDescription

[DIR]Parent Directory  -  
[   ]info.dcf07-Dec-2022 01:08 272  
[DIR]merida1/07-Dec-2022 01:08 -  
[DIR]nebbiolo1/07-Dec-2022 01:05 -  
[DIR]palomino3/07-Dec-2022 01:07 -