Index of /checkResults/devel/bioc-LATEST/biosigner/raw-results/nebbiolo1

[ICO]NameLast modifiedSizeDescription

[DIR]Parent Directory  -  
[TXT]buildsrc-out.txt29-Mar-2024 00:36 877  
[   ]buildsrc-summary.dcf29-Mar-2024 00:36 424  
[TXT]checksrc-out.txt29-Mar-2024 00:36 3.4K 
[   ]checksrc-summary.dcf29-Mar-2024 00:36 422  
[TXT]install-out.txt29-Mar-2024 00:36 966  
[   ]install-summary.dcf29-Mar-2024 00:36 263