Index of /checkResults/devel/bioc-LATEST/biosigner/raw-results/kunpeng2

[ICO]NameLast modifiedSizeDescription

[DIR]Parent Directory  -  
[TXT]buildsrc-out.txt29-Feb-2024 01:39 889  
[   ]buildsrc-summary.dcf29-Feb-2024 01:39 436  
[TXT]checksrc-out.txt29-Feb-2024 01:39 4.1K 
[   ]checksrc-summary.dcf29-Feb-2024 01:39 465  
[TXT]install-out.txt29-Feb-2024 01:39 1.0K 
[   ]install-summary.dcf29-Feb-2024 01:39 275